BEGIN:VCALENDAR
VERSION:2.0
PRODID:-//BPW Switzerland//NONSGML kigkonsult.se iCalcreator 2.16.12//
METHOD:PUBLISH
X-MS-OLK-FORCEINSPECTOROPEN:TRUE
BEGIN:VEVENT
UID:20260422T220000CEST-02558PaBds@BPW Switzerland
DTSTAMP:20260422T200000Z
DESCRIPTION:Urs Scheifele\, Dipl. Phys. ETH\, leitet das Planetarium Zürich
  und lädt uns ein zur längsten Reise\, die man sich vorstellen kann:\n\nDa
 nk des mobilien Planetariums besuchen wir zuerst unsere Nachbarn\, die Pla
 neten\, ziehen dann vorbei an Sternen und fremdartigen Gebilden der Milchs
 trasse. Weiter geht es in den integralaktischen Raum\; wir begegnen dort d
 en schönsten Wundern des Himmels\, bizarren Galaxien\, die einen regelrech
 ten Tanz vollführen und gleichzeitig reisen wir immer weiter in die Vergan
 genheit.\n\nNach einem Blick auf den Anfang des Weltalls führt eine rasend
 e Fahrt wieder zurück auf unseren Heimatplaneten\, wo wir uns mit einem Bl
 ick an den aktuellen Sternenhimmel wieder zuhause fühlen. Planetarium Züri
 ch\n\nWichtig: Im Hotel Du Parc gelten die Massnahmen des Bundes. Eine Tei
 lnahme an diesem Clubanlass ist nur mit gültigem Covid-Zertifikat möglich 
 - bitte auch den persönlichen Ausweis mitbringen.\n\nProgramm:\n18.15 Uhr:
  Apéro im Hotel Du Parc\n19 Uhr: Referat im grossen Saal im Untergeschoss
 \n20.15 Uhr: Abendessen in unserem Salon\n\nAnmeldung: Bitte bis spätesten
 s Freitag\, 15. Oktober\, an admin@bpw-baden.ch  \n \n
DTSTART:20211021T181500
DTEND:20211021T220000
LOCATION:Hotel Du Parc
ORGANIZER:MAILTO:BPW Switzerland <admin@bpw-baden.ch>
SUMMARY:... bis an den Rand des Universums
END:VEVENT
END:VCALENDAR
