BEGIN:VCALENDAR
VERSION:2.0
PRODID:-//BPW Switzerland//NONSGML kigkonsult.se iCalcreator 2.16.12//
METHOD:PUBLISH
X-MS-OLK-FORCEINSPECTOROPEN:TRUE
BEGIN:VEVENT
UID:20260422T221249CEST-5025n8nxhe@BPW Switzerland
DTSTAMP:20260422T201249Z
DESCRIPTION:\n\n\nDie 31-jährige Zizi Hattab kam als Software-Ingenieurin v
 on Barcelona in die Schweiz und entschied\, sich ihrer wahren Passion hinz
 ugeben: dem Kochen. Trotz Quereinstieg bekam sie vom bekannten Meisterkoch
  Andreas Caminada die Chance\, ihr riesiges Talent bei den besten Köchen d
 er Welt zu professionalisieren. Nach intensiven Einsätzen an verschiedenen
  Orten ist sie jetzt mit ihrem eigenen Restaurant «KLE» im Zürcher Kreis 3
 .\n\n«Wenn ich etwas mache\, dann mache ich es richtig» so Zizi – und ihre
  harte Arbeit zahlt sich aus: Das im 2020 eröffnete Restaurant erhielt ber
 eits im ersten Jahr den hart umkämpften Michelin Stern! Zizi erzählt uns n
 icht nur ihre Geschichte\, sondern verzaubert uns mit ihrem Talent und ver
 wöhnt uns als Tochter zweier Marokkaner mit ihrer nordafrikanisch und mexi
 kanisch inspirierten Küche.\nDer Vortrag wird in Englisch gehalten. Restau
 rant KLE\n\nProgramm:\n18.30 Uhr: Eintreffen im Restaurant KLE\, Zweierstr
 asse 114\, 8003 Zürich (Anreise mit dem ÖV wird empfohlen!)\n19 Uhr: Begrü
 ssung und Vortrag von Zizi Hattab. Anschliessend verwöhnt uns das KLE-Team
  mit einem Sharing-Menü aus leckeren Gerichten aus ihrer Karte\, begleitet
  von herrlichen Weinen oder selbstgemachten\, nicht alkoholischen Getränke
 n.\nKosten: CHF 200 pro Person\, wovon CHF 100 selbst bezahlt und CHF 100 
 von unserem Club übernommen werden. \n\nWichtige Information: Da wir bei g
 utem Wetter den Abend draussen im schönen Garten verbringen werden\, bitte
  auf warme Kleidung/Schuhe achten.\n\nAnmeldung: Die Anzahl der Teilnehmer
 innen ist begrenzt auf 16 Personen. Daher gilt bei der Anmeldung 'di Gschn
 äller isch di Gschwinder'. An-/Abmeldungen für diesen tollen Anlass daher 
 so schnell wie möglich und spätestens bis Donnerstag\, 9.9.2021 an admin@b
 pw-baden.ch.\n
DTSTART:20210922T181500
DTEND:20210922T220000
LOCATION:Restaurant KLE
ORGANIZER:MAILTO:BPW Switzerland <admin@bpw-baden.ch>
SUMMARY:Besuch bei der Sternenköchin im Restaurant «KLE» in Zürich
END:VEVENT
END:VCALENDAR
