BEGIN:VCALENDAR
VERSION:2.0
PRODID:-//BPW Switzerland//NONSGML kigkonsult.se iCalcreator 2.16.12//
METHOD:PUBLISH
X-MS-OLK-FORCEINSPECTOROPEN:TRUE
BEGIN:VEVENT
UID:20260422T232226CEST-9665UDd6eZ@BPW Switzerland
DTSTAMP:20260422T212226Z
DESCRIPTION:\n\n \nAlles begann\, als Bruno zu seinem 30. Geburtstag eine z
 weiwöchige Mexiko-Reise geschenkt bekam. Es gab Tacos in Mexiko-City\, Tac
 os in Tulum\, Tacos in Cancun und Tacos in Isla Mujeres. Und dann gab es d
 iesen einen\, bestimmten Taquero Strassenstand\, der alles veränderte. Ein
 ige Wochen und ein umgebauter Piaggio mit eigens designter Küche später\, 
 ging TORTUGAA unter die Leute... \n\nUnd das ist der Anfang der Geschichte
 \, wie aus einem professionellen Herrenschneider ein Taco-Meister wurde\, 
 der die Menschen aus der Umgebung Baden mit seinen TORTUGAA Tacos und sein
 er herzlichen Art begeistert. Bruno wird uns erzählen\, was ihn zu dieser 
 Lebensveränderung bewogen hat und wie er seinen Traum verwirklichte. Natür
 lich kommen wir auch in Genuss der weltbesten Tacos. Da wir bei einigermas
 sen gutem Wetter den grössten Teil des Abends draussen verbringen werden\,
  bitte je nach Temperatur an warme Kleidung / Schuhe denken! www.tortugaa.
 ch \n \n\nProgramm:\n18.30 Uhr: Eintreffen auf dem Oederlin Areal\, Rieden
 \nTreffpunkt: Beim Eingang des Oederlin Areals\, Landstrasse 1\, 5415 Ried
 en - beim roten Portierhäuschen mit der grünen Oederlin-Schrift\n\nAnreise
 :\nMit dem Bus bis zur Haltestelle Oederlin oder Goldwand\nMit dem Auto: E
 s hat Parkplätze auf der anderen Strassenseite\, die für die Besucher des 
 Oederlin Areals zur Verfügung stehen.\n\nAn-/Abmeldungen für diesen tollen
  Anlass bitte bis spätestens Mittwoch\, 18. August\, an: admin@bpw-baden.c
 h \n \n
DTSTART:20210824T183000
DTEND:20210824T221500
LOCATION:Oederlin Areal
ORGANIZER:MAILTO:BPW Switzerland <admin@bpw-baden.ch>
SUMMARY:Vom Herrenschneider zum Tacomeister
END:VEVENT
END:VCALENDAR
