BEGIN:VCALENDAR
VERSION:2.0
PRODID:-//BPW Switzerland//NONSGML kigkonsult.se iCalcreator 2.16.12//
METHOD:PUBLISH
X-MS-OLK-FORCEINSPECTOROPEN:TRUE
BEGIN:VEVENT
UID:20260422T215847CEST-5459ZM64Az@BPW Switzerland
DTSTAMP:20260422T195847Z
DESCRIPTION:\n\n \n\nBerenice Wicki ist 18 Jahre alt und in Ennetbaden aufg
 ewachsen. Schon früh zog es sie in die Berge – aufs Snowboard. Mit 12 Jahr
 en trat sie ins Internat der Stiftung Sportgymnasium Davos ein\, um möglic
 hst viel trainieren zu können. Am Sportgymnasium arbeitet sie im Moment an
  der Matur\, daneben bestreitet sie Wettkämpfe rund um die Welt. Mit 14 Ja
 hren gewann sie die Juniorenweltmeisterschaft – ein erster sportlicher Erf
 olg. Neben solchen Highlights gibt es aber auch immer wieder Rückschläge u
 nd schwierige Phasen. Bei ihrem Besuch teilt die junge\, ambitionierte Spo
 rtlerin mit uns ihre Erfahrungen.\n\nGood News: Im Anschluss an das Refera
 t können wir - verteilt auf Vierertische - ein leckeres Abendessen zusamme
 n geniessen! \n\nWichtig: An-/Abmeldungen bitte bis Sonntag\, 20.6.2021\, 
 an admin@bpw-baden.ch.\n\nZum Programm:\n18.30 Uhr: Referat\, gemeinsames 
 Abendessen im Anschluss\n\nBitte gib uns bei deiner Anmeldung unbedingt an
 \, ob du nur am Vortrag\, oder auch am anschliessenden Abendessen teilnehm
 en wirst.\n\n \n\n
DTSTART:20210623T181500
DTEND:20210623T220000
LOCATION:Hotel Du Parc
ORGANIZER:MAILTO:BPW Switzerland <admin@bpw-baden.ch>
SUMMARY:Das grosse Ziel: Olympia
END:VEVENT
END:VCALENDAR
