BEGIN:VCALENDAR
VERSION:2.0
PRODID:-//BPW Switzerland//NONSGML kigkonsult.se iCalcreator 2.16.12//
METHOD:PUBLISH
X-MS-OLK-FORCEINSPECTOROPEN:TRUE
BEGIN:VEVENT
UID:20260422T220229CEST-4424HTn4ZR@BPW Switzerland
DTSTAMP:20260422T200229Z
DESCRIPTION:Die Astrologin Verena Bachmann erläutert uns in ihrem Referat d
 ie Grundzüge der Astrologie: Dank diesen Erkenntnissen können wir die Grun
 dnatur eines Menschen bestimmen sowie die einem Vertrag\, einem Ereignis o
 der einer bestimmten Zeit innewohnenden Qualitäten und ‚Kräfte‘ erkennen. 
 Anhand von Analogien lassen sich mögliche Prozesse\, Erlebens- und Manifes
 tationsformen beschreiben.\n\nDie Astrologie erlaubt uns\, Erfahrungen und
  Ereignisse umfassender und besser zu verstehen sowie anstehende Prozesse 
 zu beschreiben und uns entsprechend darauf vorzubereiten. Gleichzeitig ist
  es nicht möglich\, Aussagen über das was konkret geschehen wird\, zu mach
 en.\n\nVerena Bachmann stellt uns in ihrem Vortrag die verschiedenen Anwen
 dungsmöglichkeiten der Astrologie vor und erörtert ihre Rolle in Bezug auf
  den Umgang mit den zurzeit aktuellen Themen.\n\nUnsere erste Live-Veranst
 altung im 2021 findet im grössten Saal des Hotel Du Parc in Baden statt. D
 ie Abstände können problemlos eingehalten werden. Zusätzlich gilt\, wie in
  allen Innenräumen\, Maskenpflicht.\nAnmeldung bis Freitag\, 14. Mai\, an:
  admin@bpw-baden.ch. \n\nZum Programm:\n18.45 Uhr: Eintreffen\, Apéro mit 
 Häppchen im Garten des Du Parc (nur bei trockener Witterung)\n19.30 Uhr: R
 eferat im Saal des Hotel Du Parc\, Baden\nEnde: ca. 21 Uhr\n\nKosten: CHF 
 20\, wenn der Apéro stattfinden kann. Bei unsicherer Witterung werden alle
 \, die sich angemeldet haben\, bis Mittwochmittag über die Durchführung in
 formiert.\n
DTSTART:20210519T184500
DTEND:20210519T210000
LOCATION:Hotel Du Parc
ORGANIZER:MAILTO:BPW Switzerland <admin@bpw-baden.ch>
SUMMARY:Astrologie in unserer Zeit: Wie sie funktioniert\, was sie kann und
  was nicht 
END:VEVENT
END:VCALENDAR
