BEGIN:VCALENDAR
VERSION:2.0
PRODID:-//BPW Switzerland//NONSGML kigkonsult.se iCalcreator 2.16.12//
METHOD:PUBLISH
X-MS-OLK-FORCEINSPECTOROPEN:TRUE
BEGIN:VEVENT
UID:20260422T220450CEST-1192RFmp6B@BPW Switzerland
DTSTAMP:20260422T200450Z
DESCRIPTION:\n\n\nDr. Steve Pascolo\, Immunologe an der Dermatologischen Kl
 inik des Universitätsspitals Zürich\, berichtet uns über die Entstehung un
 d Entwicklung des neuen mRNA-Impfstoffs. Wird er uns aus der COVID Pandemi
 e führen? Es ist das erste Mal in der Geschichte\, dass ein Impfstoff in w
 eniger als einem Jahr nach der Beschreibung eines neuen Virus validiert wi
 rd. Diese Technologie mauserte sich innerhalb von 20 Jahren vom belächelte
 n Aussenseiter zum weltweiten Hoffnungsträger.\n\nDer Vortrag wird in Engl
 isch gehalten.\n\nZeit: 19.30 bis ca. 20.30 oder 21 Uhr.\n\nAnmeldung: Bit
 te bis spätestens Mittwochvormittag\, 28.4.2021 per e-mail an admin@bpw-ba
 den.ch.\nAlle Teilnehmerinnen erhalten am Vortag den Link mit den Zugangsd
 aten zur Veranstaltung.\n 
DTSTART:20210429T181500
DTEND:20210429T220000
LOCATION:per Zoom
ORGANIZER:MAILTO:BPW Switzerland <admin@bpw-baden.ch>
SUMMARY:Ausweg aus der COVID-Pandemie dank mRNA Impfstoff?
END:VEVENT
END:VCALENDAR
