BEGIN:VCALENDAR
VERSION:2.0
PRODID:-//BPW Switzerland//NONSGML kigkonsult.se iCalcreator 2.16.12//
METHOD:PUBLISH
X-MS-OLK-FORCEINSPECTOROPEN:TRUE
BEGIN:VEVENT
UID:20260422T220555CEST-8809zHrCVp@BPW Switzerland
DTSTAMP:20260422T200555Z
DESCRIPTION:\n\n\nDer Sommeranlass: Das Kloster und die Klosterhalbinsel We
 ttingen\nBei unserem diesjährigen Sommeranlass lernen wir das Kloster Wett
 ingen\, seine Geschichte\, und die Klosterhalbinsel Wettingen kennen:\n\nB
 ei der Besichtigung des unvergleichlichen Kreuzgangs und der einmaligen Pa
 rk- und Gartenanlage des Klosters lässt sich die Bedeutung dieser Anlage i
 n unserer Region erkennen: Erst als Kloster\, dann als Wendepunkt unserer 
 Geschichte vom Staatenbund zum Bundesstaat und den revolutionären Gedanken
  von Freiheit und Gleichheit. Augustin Keller\, Lehrer und Regierungsratsm
 itglied des neuen Kantons Aargau\, wird von den Bauern und den kirchlichen
  Institutionen gehasst\, doch er kämpft scharfsinnig für die neue Macht: D
 as Wissen für alle\, ob arm oder reich! Nach der Aufhebung der Klöster im 
 Aargau wird das Wettinger Kloster zum Lehrerseminar. Im neuen Bundesstaat 
 (1848) erwacht die Industrialisierung\, so entsteht auf den Ländereien des
  Klosters die Baumwollspinnerei und -weberei. Und auch heute ist in der ei
 nstigen Kloster-Sägerei eine Frau tätig\, die schon manch begehrte Auszeic
 hnung für ihre Innovationen erhielt.\n\nWir bieten zwei Programmpunkte. Ko
 mmt nur zur Führung\, nur zum Essen oder zu beidem. Wir freuen uns auf euc
 h!\nA Führung durch Klostergarten\, Klostergärtnerei samt Umgebung\nEintre
 ffen: 18.00 Uhr\nOrt: Vor dem «Sternen» beim Kloster Wettingen (Klosterstr
 asse 9)\nDauer: ca 1\,5 Std\, inkl. Verweilen\n\nB Abendessen im Restauran
 t Sternen\nEintreffen: 19.30 Uhr\nOrt: Direkt beim «Sternen» Wettingen (Kl
 osterstrasse 9)\nMenü à la Carte\n\nAn- und Abmeldungen:\nBis spätestens S
 onntag\, 18. Juli 2021 unter: admin@bpw-baden.ch\nBitte bei der Anmeldung 
 vermerken\, ob A oder B\, oder A und B.\n\n \n
DTSTART:20210722T180000
DTEND:20210722T214500
LOCATION:Kloster Wettingen und Restaurant Sternen
ORGANIZER:MAILTO:BPW Switzerland <admin@bpw-baden.ch>
SUMMARY:Besichtigung des Klosters Wettingen  
END:VEVENT
END:VCALENDAR
