BEGIN:VCALENDAR
VERSION:2.0
PRODID:-//BPW Switzerland//NONSGML kigkonsult.se iCalcreator 2.16.12//
METHOD:PUBLISH
X-MS-OLK-FORCEINSPECTOROPEN:TRUE
BEGIN:VEVENT
UID:20260422T203651CEST-4767IVuWTc@BPW Switzerland
DTSTAMP:20260422T183651Z
DESCRIPTION:\n \n\n\nWir laden unsere Mitglieder\, Interessentinnen und Gäs
 te ganz herzlich zum Weihnachtsanlass ein und freuen uns auf einen gemeins
 amen festlichen Abend in Dättwil.\n\nTilman Silber und Leila Erdin werden 
 uns dabei ein stimmiges musikalisches Programm präsentieren. Sie singen zu
  Zweit und begleiten sich dabei mit Gitarre\, Klavier und Schlagzeug.\n\nO
 rt: Restaurant Pinte Dättwil\, Sommerhaldenstrasse 20\, 5405 Dättwil\n \n
 \nZum Programm:\n18.15 Uhr: Eintreffen und Apéro\n19 Uhr: Nachtessen mit R
 ahmenprogramm\n22 Uhr: Ausklang\nTenu: festlich\n \n\nUnser Menu:\nApéro m
 it Weisswein\, Schweppes\, Orangensaft und Mineral\, Salziges\nVorspeise: 
 Nüsslisalat mit Ei\nFleisch: Kalbsschnitzel Wiener Art\, Gemüse und Pommes
  allumettes\nVegi: Auberginen-Zucchinicurry mit Basmatireis\nDessertbuffet
 \, Kaffee oder Tee\nIm Menupreis von CHF 85 sind Apéro\, Mineralwasser\, W
 ein und Tee oder Kaffee inbegriffen.\n\nBei der Anmeldung bitte Menuwahl (
 Vegi oder Fleisch) angeben!\n\nVerbindliche Anmeldung bis am Montag\, 12. 
 Dezember per Mail an admin@bpw-baden.ch.\nAbmeldung bis 48 Std. vorher per
  Mail (admin@bpw-baden.ch) möglich. Danach wird das Menu in Rechnung geste
 llt.\n\nWir freuen uns auf einen festlichen Adventsabend mit Euch!\n
DTSTART:20221215T181500
DTEND:20221215T220000
LOCATION:Restaurant Pinte Dättwil
ORGANIZER:MAILTO:BPW Switzerland <admin@bpw-baden.ch>
SUMMARY:BPW-Weihnachtsfeier 
END:VEVENT
END:VCALENDAR
