BEGIN:VCALENDAR
VERSION:2.0
PRODID:-//BPW Switzerland//NONSGML kigkonsult.se iCalcreator 2.16.12//
METHOD:PUBLISH
X-MS-OLK-FORCEINSPECTOROPEN:TRUE
BEGIN:VEVENT
UID:20260422T220330CEST-6273r9ceKz@BPW Switzerland
DTSTAMP:20260422T200330Z
DESCRIPTION:\n\nIm Rahmen der traditionellen Kerzenlichtfeier erleben wir j
 edes Jahr die starke Verbundenheit mit den BPW’s in über 50 Ländern auf de
 r ganzen Welt. Mit der Kerzenlicht-Zeremonie feiern wir die Verbundenheit 
 mit unseren BPW Frauen im weltumspannende Mitgliedernetzwerk\, das dank de
 r Gründerin Dr. Lena Madesin Philips vor 90 Jahren entstanden ist. Im Rahm
 en dieser Feier zünden wir für alle Länder eine Kerze an. Somit werden wir
  an die BPW-Clubs in aller Welt sowie an unsere gemeinsamen Ziele und Wert
 e denken und unsere Verbundenheit mit ihnen sichtbar machen.\n\nProgramm\n
 - Ab 18:00h Apéro mit einem Glas Sekt und einem Snack (im Päckli zu finden
 )\n- Ca. 18:20h Begrüssung durch den Vorstand und anschliessend\nEröffnung
  und Durchführung der Kerzenlichtfeier mit der Botschaft der international
 en BPW-Präsidentin\n- Gemeinsames Anzünden der Kerzen bei jeder teilnehmen
 den BPW zuhause (ebenfalls im Päckli)\n- Abschluss der Kerzenlichtfeier mi
 t einem Wunderkerzenlicht\n- Ca. 19:00h Ende der virtuellen Kerzenlichtfei
 er\n- Wer möchte\, kann noch länger bleiben - zum Austausch und Gespräch\n
 \nAnmeldung:\nBitte bis spätestens Donnerstag\, 27. Januar 2022 per Mail a
 n admin@bpw-baden.ch - vielen Dank!\nDie Teilnehmerinnen erhalten ein Päck
 li mit weiteren Instruktionen per Post. Bitte öffnet das Päckli gleich\, d
 a es wiederum lebende Pflanzen enthalten wird.\n\nWir freuen uns auf eine 
 prickelnd-sprühende\, feierliche und inspirierende virtuelle Feier.\n 
DTSTART:20220222T180000
DTEND:20220222T190000
LOCATION:Zoom-Veranstaltung bei uns allen zuhause
ORGANIZER:MAILTO:BPW Switzerland <admin@bpw-baden.ch>
SUMMARY:Virtuelle und traditionelle Kerzenlichtfeier
END:VEVENT
END:VCALENDAR
