BEGIN:VCALENDAR
VERSION:2.0
PRODID:-//BPW Switzerland//NONSGML kigkonsult.se iCalcreator 2.16.12//
METHOD:PUBLISH
X-MS-OLK-FORCEINSPECTOROPEN:TRUE
BEGIN:VEVENT
UID:20260422T214900CEST-3054XN6svD@BPW Switzerland
DTSTAMP:20260422T194900Z
DESCRIPTION:\n\n\n46. Mitgliederversammlung des BPW Club Baden\n\nEs freut 
 uns sehr\, euch zur diesjährigen 46. Mitgliederversammlung unseres BPW Clu
 b Baden einzuladen:\nDatum:   Mittwoch\, 23. März 2022\nOrt:    Restaurant
  Du Parc\, Baden\n      WICHTIG: Es gilt nur noch die 1G Regel: 1 Grossart
 iges Lächeln *FREUDE* :)\nZeit:    18:15 Uhr Apéro Lounge\n      19:00 Uhr
  Mitgliederversammlung\n      20:15 Uhr Nachtessen auf Kosten des Clubs\n
 \nUnsere Clubmitglieder haben die folgenden Unterlagen per Email erhalten:
 \nProtokoll der MV 2021\nJahresbericht 2021 der Präsidentin Katia Röthlin
 \nEinladung zur MV mit Traktanden\nBilanz und Erfolgsrechnung 2021\nRevisi
 onsbericht\nBudget 2022\n\nAllfällige Anträge bitten wir euch\, bis spätes
 tens 16.03.2022 in schriftlicher Form an admin@bpw-baden.ch zu schicken.\n
 \nBitte schickt uns deine Anmeldung für die diesjährige MV bis spätestens 
 Freitag\, 18. März 2022 an admin@bpw-baden.ch\n\nEs freut uns riesig\, euc
 h alle endlich wieder persönlich treffen und ganz ohne Maske sehen zu dürf
 en :)\nEure Vorstandsfrauen Katia Röthlin\, Manuela Birrer\, Annett Ehrent
 raut\, Claudine Gerber\, Alexandra Signer\n
DTSTART:20220323T181500
DTEND:20220323T220000
LOCATION:Hotel Du Parc
ORGANIZER:MAILTO:BPW Switzerland <admin@bpw-baden.ch>
SUMMARY:46. Mitgliederversammlung
END:VEVENT
END:VCALENDAR
