BEGIN:VCALENDAR
VERSION:2.0
PRODID:-//BPW Switzerland//NONSGML kigkonsult.se iCalcreator 2.16.12//
METHOD:PUBLISH
X-MS-OLK-FORCEINSPECTOROPEN:TRUE
BEGIN:VEVENT
UID:20260422T232302CEST-6294DD9Kx3@BPW Switzerland
DTSTAMP:20260422T212302Z
DESCRIPTION:Als Hexe verbrannt\, als Dienstbotin schikaniert\, als mildtäti
 ge Adelige verehrt\, als kämpferische Künstlerin\, Industriellentochter od
 er Politikerin bewundert – diese Stadtführung rückt die Frauen der Badener
  Geschichte ins Zentrum\n\nMit lautstarker Unterstützung der Kirche wurden
  die Frauen als Lockvogel des Teufels und Missgeburt der Natur bezeichnet\
 , selbst Reformatoren nannten sie «ein halbes Kind» oder «ein tolles Tier»
 . Erst im 20. Jahrhundert beginnen sich die Rechte der Frauen zögerlich zu
  verbessern. Auf dem Spaziergang vom Bahnhofplatz bis zur Villa Boveri erf
 ährt man bewegende Geschichten und Taten von in Baden lebenden Frauen – ei
 nst und heute.\n\nMit dabei sind Damen und ihre Partner des BPW+ Lenzburg\
 ; wir beabsichtigen\, zukünftig öfters gemeinsame Veranstaltungen durchzuf
 ühren. Damit Chancengleichheit herrscht\, sind auch unsere PartnerInnen he
 rzlich eingeladen!\n\nTreffpunkt: Um 10.45 Uhr vor Info Baden\, Oberer Bah
 nhofplatz\, 5400 Baden\nBeginn der Führung: 11 Uhr\, Dauer: 1 Stunde.\nAns
 chliessend : Gemeinsames Essen im Restaurant Roter Turm\, Rathausgasse 5 i
 n Baden.\n\nDie BPW-Clubs Baden und Lenzburg laden zur Stadtführung ein. B
 itte Maske mitbringen!\nKosten: Mittagessen und Getränke.\n\nAnmeldung: bi
 s spätestens 18. Oktober 2020 an Anita Rösch Egli\, Mail anita.roesch@blue
 win.ch\n
DTSTART:20201022T104500
DTEND:20201022T140000
ORGANIZER:MAILTO:BPW Switzerland <admin@bpw-baden.ch>
SUMMARY:Stadtführung: Geschichten von Frauen die Baden und die Welt bewegte
 n
END:VEVENT
END:VCALENDAR
