BEGIN:VCALENDAR
VERSION:2.0
PRODID:-//BPW Switzerland//NONSGML kigkonsult.se iCalcreator 2.16.12//
METHOD:PUBLISH
X-MS-OLK-FORCEINSPECTOROPEN:TRUE
BEGIN:VEVENT
UID:20260422T232037CEST-7851nXrVsL@BPW Switzerland
DTSTAMP:20260422T212037Z
DESCRIPTION:Wir laden am Donnerstag\, 17. September\, herzlich zum nächsten
  virtuellen Clubabend ein. Unsere beiden neuen Mitglieder Ana Häberli und 
 Renate Senn haben beide entschieden\, dass sie mit ihren Einführungsrefera
 ten warten\, bis wir uns wieder persönlich treffen können. Wir verstehen d
 iesen Entscheid gut und stützen ihn. Daher organisieren wir am 17. Septemb
 er einen Abend über uns. Was heisst das?\n\n1. Wir stellen die neue Datenb
 ank vor und zeigen\, wie man sie nutzt.\n2. Wir stellen das Mentoringprogr
 amm vor.\n3. Wir nutzen die Zeit\, um uns in Breakout Sessions auszutausch
 en – fast so wie an den Tischen im Du Parc :)\n\nZeit:   19:30 Uhr bis ca.
  21:00 Uhr\nFalls ihr Zoom noch nie verwendet habt\, empfehlen wir\, euch 
 bereits um 19:20 Uhr einzuloggen\, damit genügend Zeit bleibt\, um euch ei
 nzurichten.\nGerne helfen wir euch auch dabei!\n\nOrt:   gemütlich bei euc
 h zu Hause mit dem Laptop\, Tablet oder PC :)\n\nZoom:  Alle Teilnehmerinn
 en erhalten am Vortag den Link zum Treffen mit den Zugangsdaten\n\nAnmeldu
 ng bitte bis Dienstagabend\, 15. September\, per Mail an admin@bpw-baden.c
 h.\n\n \n
DTSTART:20200917T193000
DTEND:20200917T210000
LOCATION:Zoom-Meeting
ORGANIZER:MAILTO:BPW Switzerland <admin@bpw-baden.ch>
SUMMARY:Persönlicher Austausch per Zoom
END:VEVENT
END:VCALENDAR
