BEGIN:VCALENDAR
VERSION:2.0
PRODID:-//BPW Switzerland//NONSGML kigkonsult.se iCalcreator 2.16.12//
METHOD:PUBLISH
X-MS-OLK-FORCEINSPECTOROPEN:TRUE
BEGIN:VEVENT
UID:20260422T234823CEST-0104bzs0ov@BPW Switzerland
DTSTAMP:20260422T214823Z
DESCRIPTION:\nAnstelle der eigentlich geplanten Präsidentinnen-Schulung wer
 den wir am 18. April ab 10 Uhr einen Online-Austausch zwischen Zentralvors
 tand und BPW-Clubpräsidentinnen organisieren.\n\nBitte melden Sie sich übe
 r den untenstehenden Link an.\n\n \n\n
DTSTART:20200418T100000
DTEND:20200418T120000
ORGANIZER:MAILTO:BPW Switzerland <admin@bpw-baden.ch>
SUMMARY:Online-Meeting für BPW Club-Präsidentinnen
END:VEVENT
END:VCALENDAR
