BEGIN:VCALENDAR
VERSION:2.0
PRODID:-//BPW Switzerland//NONSGML kigkonsult.se iCalcreator 2.16.12//
METHOD:PUBLISH
X-MS-OLK-FORCEINSPECTOROPEN:TRUE
BEGIN:VEVENT
UID:20260422T231930CEST-8425UPNiEc@BPW Switzerland
DTSTAMP:20260422T211930Z
DESCRIPTION:Das Eintrittsreferat von Renate Senn wird verschoben. Stattdess
 en organisieren wir einen virtuellen Spielabend. Nähere Angaben zum Progra
 mm folgen.\n\n\n \n
DTSTART:20201013T181500
DTEND:20201013T220000
ORGANIZER:MAILTO:BPW Switzerland <admin@bpw-baden.ch>
SUMMARY:Virtueller Spielabend
END:VEVENT
END:VCALENDAR
