BEGIN:VCALENDAR
VERSION:2.0
PRODID:-//BPW Switzerland//NONSGML kigkonsult.se iCalcreator 2.16.12//
METHOD:PUBLISH
X-MS-OLK-FORCEINSPECTOROPEN:TRUE
BEGIN:VEVENT
UID:20260422T231924CEST-2483pDN3N7@BPW Switzerland
DTSTAMP:20260422T211924Z
DESCRIPTION:Wir laden euch herzlich ein zum nächsten virtuellen Clubabend a
 m Mittwoch\, 18. November. Wir werden an diesem Abend gemeinsam spielen. S
 pielen? Virtuell? Geht das überhaupt? Aber klar! In Gruppen oder gemeinsam
  spielen wir verschiedene Spiele\, die wunderbar auch online funktionieren
 . Lasst Euch überraschen.\n\nWann:  19:30 Uhr bis ca. 21:00 Uhr\nFalls ihr
  Zoom noch nie verwendet habt\, empfehlen wir\, euch bereits um 19:20 Uhr 
 einzuloggen\, damit genügend Zeit bleibt\, um euch einzurichten.\nGerne he
 lfen wir euch auch dabei!\n\nWo:   Gemütlich bei euch zu Hause mit dem Lap
 top\, Tablet oder PC :)\n\nZoom:  Alle Teilnehmerinnen erhalten am Vortag 
 ein Mail mit dem Zoom-Link und weiteren Informationen zum virtuellen Spiel
 eabend.\n\nAnmeldung: Bitte bis Montagabend\, 16. November\, per Mail an a
 dmin@bpw-baden. \n \n
DTSTART:20201118T193000
DTEND:20201118T210000
LOCATION:Virtueller Spielabend über Zoom
ORGANIZER:MAILTO:BPW Switzerland <admin@bpw-baden.ch>
SUMMARY:Virtueller Spielabend
END:VEVENT
END:VCALENDAR
