BEGIN:VCALENDAR
VERSION:2.0
PRODID:-//BPW Switzerland//NONSGML kigkonsult.se iCalcreator 2.16.12//
METHOD:PUBLISH
X-MS-OLK-FORCEINSPECTOROPEN:TRUE
BEGIN:VEVENT
UID:20260422T221111CEST-7491ATZvse@BPW Switzerland
DTSTAMP:20260422T201111Z
DESCRIPTION:Augmented Leadership – Wie Künstliche Intelligenz herausragende
  Führung verstärkt\nMit Steffen Konrath\, Founder AI Suisse\n\nFür einen C
 lubabend und ein gemütliches Zusammensein wie wir uns es gewohnt sind\, mü
 ssen wir uns noch etwas gedulden. Daher haben wir uns in Absprache mit uns
 erem Referenten entschieden\, den Clubabend vom 18. Juni als Zoom-Meeting 
 durchzuführen.\n\nZum Programm:\nIn Phasen grosser Unsicherheit wie wir si
 e derzeit erleben kann KI uns helfen Ordnung in die Informationslandschaft
  zu bringen. Sie liefert Antworten auf Fragen wie: Was bieten wir an\, wen
 n Menschen in die soziale Distanz gehen müssen? Mit Hilfe ihrer Modelle er
 kennen wir Verhaltensmuster von Wettbewerbern und Bedarfssituationen\, die
  uns sonst verborgen sind oder nur mit viel Aufwand ermittelt werden könne
 n. Conversational AI (Sprachsteuerung) beschreibt die neuen Konzepte in de
 r Kommunikation mit unseren Kunden. Generative Design ist von ihr getriebe
 n und sie hilft neue Lösungsansätze in der Produktentwicklung zu finden\, 
 auf die der Mensch so nicht kommen würde.\n\nEs gibt viele Unternehmensber
 eiche in denen KI einschneidende Änderungen unseres Denkens und Handelns f
 ordert und Entscheidungen abverlangt\, wie weit wir in der Führung von Unt
 ernehmen gehen wollen\, wenn wir ethische Grenzbereiche erreichen. In sein
 em Referat liefert uns Steffen Konrath einen Überblick über die Sonnen- un
 d die Schattenseiten einer Technologie die unser Wirtschaften massiv beein
 flussen wird.\nMehr zu Artificial Intelligence Suisse\nMehr zu evAI - Mark
 et Intelligence for Marketing and Sales\n\nAnmeldung bis am 16. Juni an ad
 min@baden-bpw.ch\n\nDonnerstag\, 18. Juni\, um 19.30 Uhr: Beginn des Zoom-
 Meetings und des Programmes\nDauer: bis ca 20.30 oder 21 Uhr\n
DTSTART:20200618T181500
DTEND:20200618T220000
LOCATION:Zoom-Meeting
ORGANIZER:MAILTO:BPW Switzerland <admin@bpw-baden.ch>
SUMMARY:Augmented Leadership - Wie Künstliche Intelligenz herausragende Füh
 rung verstärkt
END:VEVENT
END:VCALENDAR
