BEGIN:VCALENDAR
VERSION:2.0
PRODID:-//BPW Switzerland//NONSGML kigkonsult.se iCalcreator 2.16.12//
METHOD:PUBLISH
X-MS-OLK-FORCEINSPECTOROPEN:TRUE
BEGIN:VEVENT
UID:20260422T221046CEST-3460Xp67VO@BPW Switzerland
DTSTAMP:20260422T201046Z
DESCRIPTION:Einflussreich Netzwerken\nMit Petra Rohner\, PR Consulting GmbH
 \n\nDie Digitalisierung nimmt nicht nur Einfluss auf unser Arbeitsumfeld u
 nd unsere Kommunikationswege\, sondern verändert unser Netzwerk. Das persö
 nliche Netzwerk wird immer stärker eine Währung\, die wir uns heute erarbe
 iten und aufbauen müssen\, um zu einem späteren Zeitpunkt davon profitiere
 n zu können. Doch was bedeutet Netzwerken in Zeiten der digitalen Kommunik
 ation? Für uns als Person? Für unsere Karriere? Für unser Unternehmen? Was
  bedeutet es heute sich zu positionieren\, ein Profil zu erstellen und sei
 n Netzwerk aufzubauen und zu pflegen?\n\nPetra Rohner befasst sich seit de
 n Anfängen der virtuellen Businessprofile mit deren Einfluss auf den Bewer
 bungs-und Rekrutierungsprozess sowie mit der veränderten Kundenkommunikati
 on. Die Autorin des Buches EINFLUSSREICH NETZWERKEN zeigt Ihnen die wichti
 gsten Grundlagen der virtuellen Vernetzung und was es bedeutet\, die eigen
 e Expertise sichtbar zu machen.\nMehr zu Petra Rohner \n\nZeit: 19.30 bis 
 ca. 21 Uhr\nOrt: gemütlich bei euch zu Hause mit dem Tablet\, Laptop oder 
 PC\n\nAnmeldung: Bitte bis Montagvormittag\, 10.8.2020 an admin@bpw-baden.
 ch\nAlle angemeldeten Teilnehmerinnen erhalten am Vortag den Link mit den 
 Zugangsdaten.\n\nFalls ihr Zoom zum ersten Mal verwendet\, so empfehlen wi
 r\, euch bereits um 19.20 Uhr einzuloggen. So bleibt genügend Zeit\, um eu
 ch einzurichten. Gerne helfen wir euch auch dabei!\n
DTSTART:20200812T193000
DTEND:20200812T210000
LOCATION:Zoom-Meeting
ORGANIZER:MAILTO:BPW Switzerland <admin@bpw-baden.ch>
SUMMARY:Einflussreich Netzwerken
END:VEVENT
END:VCALENDAR
