BEGIN:VCALENDAR
VERSION:2.0
PRODID:-//BPW Switzerland//NONSGML kigkonsult.se iCalcreator 2.16.12//
METHOD:PUBLISH
X-MS-OLK-FORCEINSPECTOROPEN:TRUE
BEGIN:VEVENT
UID:20260422T203837CEST-1390HTZsUd@BPW Switzerland
DTSTAMP:20260422T183837Z
DESCRIPTION:\n\n100 Jahre Badenfahrt – wenn das kein Grund zum Feiern ist! 
 Und das wird die ganze Stadt vom 18. bis 27. August sicherlich ausgiebig t
 un.\n\nFür viele Badenerinnen sind jedoch die Tage vor dem grossen Fest di
 e schönsten überhaupt. Dann wird in der ganzen Stadt gehämmert\, gemalt\, 
 gelacht und die Vorfreude steigt von Tag zu Tag.\n\nUm diese Stimmung zu g
 eniessen und schon einmal eine Nase voll Badenfahrtluft zu nehmen\, laden 
 wir euch am Dienstag\, 15. August\, zu einem Spaziergang über das Festgelä
 nde ein. Anschliessend essen wir gemeinsam im Du Parc. Wer nicht spazieren
  mag oder länger arbeiten muss\, darf gerne direkt ins Du Parc kommen.\n 
 \nTreffpunkt 1: 18 Uhr\, Cordulapassage (beim Stack\, dem Turm aus Gummi)
 \nTreffpunkt 2: 19.30 Uhr\, Du Parc\n \nMenü:\nApéro\nGazpacho\nHauptgang 
 mit Fleisch: Fitnessteller mit Pouletbrust\, oder Vegi: Fitnessteller mit 
 Gemüseschnitzel.\n\nAnmeldungen bis am Freitag\, 11. August an admin@baden
 -bpw.ch\, bitte mit Angabe ob Fleischmenü oder Vegi. \n \nWir freuen uns\,
  mit euch die Stadt im Vorfestfieber zu entdecken. Eure Vorstandsfrauen St
 effi Kessler\, Antje Amrhein Schoch\, Alexandra Signer\, Evelyne Reissig\,
  Corinna Hauri\n\n \n\n \n
DTSTART:20230815T180000
DTEND:20230815T220000
LOCATION:Hotel Du Parc
ORGANIZER:MAILTO:BPW Switzerland <admin@bpw-baden.ch>
SUMMARY:Sommeranlass - Wir stimmen uns ein auf die Badenfahrt
END:VEVENT
END:VCALENDAR
