BEGIN:VCALENDAR
VERSION:2.0
PRODID:-//BPW Switzerland//NONSGML kigkonsult.se iCalcreator 2.16.12//
METHOD:PUBLISH
X-MS-OLK-FORCEINSPECTOROPEN:TRUE
BEGIN:VEVENT
UID:20260422T221335CEST-2931U6f4Hs@BPW Switzerland
DTSTAMP:20260422T201335Z
DESCRIPTION:Zoom-Konferenz und offener Austausch\nLeider müssen wir das gep
 lante Eintrittsreferat von Ana Häberli verschieben\, bis wir uns wieder al
 le persönlich treffen können.\nTrotzdem möchten wir euch am 13. Mai die Mö
 glichkeit bieten\, euch zu sehen und euch auszutauschen. Wir werden eine Z
 oomkonferenz organisieren und euch als Vorstand durch den Abend führen. Wi
 r würden uns freuen\, wenn ihr zahlreich dabei seid.\n\nZeit: 19:30 Uhr bi
 s ca. 21:00 Uhr\nOrt: gemütlich bei euch zu Hause mit dem Laptop\, Tablet 
 oder PC :)\nAnmeldung für den gemütlichen Abend: Bis Dienstagmittag\, 12. 
 Mai\, 12 Uhr\n\nFalls ihr Zoom noch nie verwendet habt\, empfehlen wir\, e
 uch bereits um 19:20 Uhr einzuloggen\, damit genügend Zeit bleibt\, um euc
 h einzurichten. Gerne helfen wir euch auch dabei!\n\nZoom: Alle Teilnehmer
 innen erhalten am Vortag den Link zum Treffen mit den Zugangsdaten. \n
DTSTART:20200513T193000
DTEND:20200513T210000
LOCATION:Über Webplattform 'Zoom'
ORGANIZER:MAILTO:BPW Switzerland <admin@bpw-baden.ch>
SUMMARY:Zoom-Konferenz und offener Austausch
END:VEVENT
END:VCALENDAR
