BEGIN:VCALENDAR
VERSION:2.0
PRODID:-//BPW Switzerland//NONSGML kigkonsult.se iCalcreator 2.16.12//
METHOD:PUBLISH
X-MS-OLK-FORCEINSPECTOROPEN:TRUE
BEGIN:VEVENT
UID:20260422T234827CEST-9953WwsWZU@BPW Switzerland
DTSTAMP:20260422T214827Z
DESCRIPTION:\n\n\nSchöne neue Arbeitswelt - Plädoyer für ein neues Miteinan
 der\nMit Barbara Josef\, Co-Founder 5-9 AG\n\nUnsere Arbeitswelt befindet 
 sich in einem fundamentalen Umbruch. Das Zusammenwirken von neuen Technolo
 gien und dem laufenden Wertewandel in der Gesellschaft führen dazu\, dass 
 sich die Arbeit selber sowie die Art und Weise\, wie wir in Zukunft zusamm
 enarbeiten\, verändern.\nIn ihrem Impulsreferat setzt sich Barbara Josef m
 it den wichtigsten Veränderungen in der Arbeitswelt auseinander. Sie gibt 
 einen Überblick über neue Formen der Zusammenarbeit und zeigt auf\, wie wi
 r die Reise Richtung neue Arbeitswelten gestalten können. Den Abschluss bi
 ldet eine interaktive Standortbestimmung und Diskussion mit Menti.com.\nNä
 here Angaben zum Programm folgen.\n\n\nAb 18.15 Uhr: Eintreffen und Apéro 
 im Hotel Du Parc\, Baden\n19 Uhr: Abendessen und Referat\nDauer: Bis ca 22
  Uhr\n
DTSTART:20200421T181500
DTEND:20200421T220000
LOCATION:Hotel Du Parc
ORGANIZER:MAILTO:BPW Switzerland <admin@bpw-baden.ch>
SUMMARY:Schöne neue Arbeitswelt - Plädoyer für ein neues Miteinander
END:VEVENT
END:VCALENDAR
