BEGIN:VCALENDAR
VERSION:2.0
PRODID:-//BPW Switzerland//NONSGML kigkonsult.se iCalcreator 2.16.12//
METHOD:PUBLISH
X-MS-OLK-FORCEINSPECTOROPEN:TRUE
BEGIN:VEVENT
UID:20260422T233133CEST-0582Keio8b@BPW Switzerland
DTSTAMP:20260422T213133Z
DESCRIPTION:\n\n \nWir freuen uns sehr\, euch zur 45. Mitgliederversammlung
  des BPW Club Baden am Mittwoch\, 17.03.2021 einzuladen.\n\nAuch dieses Ja
 hr wird die MV per Zoom stattfinden:\nDatum:  Mittwoch\, 17. März 2021\nZe
 it:    19:00 Uhr\nLink:    Der Link wird dir am Tag vor der MV per Email z
 ugeschickt\nBitte melde dich für die MV per Email an: admin@bpw-baden.ch.
 \n\nDie stimmberechtigten Clubmitglieder erhalten die Unterlagen (Traktand
 en\, Jahresbericht\, Protokoll der MV 2020\, Jahresrechnung und Budget 202
 0/21 sowie das Jahresprogramm 2021-2022) per e-Mail. Interessentinnen und 
 Gäste (nicht stimmberechtigt) sind ebenfalls herzlich willkommen.\n\nWir f
 reuen uns sehr auf eine spannende\, virtuelle Mitgliederversammlung mit eu
 ch.\n\nDie Vorstandfrauen Katia Röthlin\, Claudine Gerber\, Manuela Birrer
 \, Annett Ehrentraut und Alexandra Signer\n\n \n
DTSTART:20210317T181500
DTEND:20210317T220000
LOCATION:per Zoom
ORGANIZER:MAILTO:BPW Switzerland <admin@bpw-baden.ch>
SUMMARY:45. Mitgliederversammlung
END:VEVENT
END:VCALENDAR
