BEGIN:VCALENDAR
VERSION:2.0
PRODID:-//BPW Switzerland//NONSGML kigkonsult.se iCalcreator 2.16.12//
METHOD:PUBLISH
X-MS-OLK-FORCEINSPECTOROPEN:TRUE
BEGIN:VEVENT
UID:20260422T214900CEST-8491ZHZAX8@BPW Switzerland
DTSTAMP:20260422T194900Z
DESCRIPTION:Gerne laden wir dieses Jahr – wie könnte es anders sein – zur v
 irtuellen aber trotzdem festlichen Kerzenlichtfeier ein:\n\nMit der tradit
 ionellen Kerzenlicht-Zeremonie feiern wir die Verbundenheit mit all unsere
 n BPW-Frauen im heute weltumspannende Mitgliedernetzwerk\, das dank der Gr
 ünderin Dr. Lena Madesin Philips vor 90 Jahren entstanden ist. Im Rahmen d
 ieser Feier zünden wir für alle Länder eine Kerze an. Dabei denken wir an 
 die gemeinsamen Werte und Ziele und erleben wir die Verbundenheit mit den 
 BPW-Clubs in aller Welt.\n\nProgramm\nAb 18:30h Apéro mit einem Glas Sekt 
 (wird angeliefert )\nCa. 18:40h Begrüssung durch den Vorstand und anschlie
 ssend\n\n- Eröffnung und Durchführung der Kerzenlichtfeier im üblichen Rah
 men\nmit der Botschaft der internationalen BPW-Präsidentin\n- Gemeinsames 
 Anzünden der Kerzen bei jeder teilnehmenden BPW Zuhause (wird per Post ges
 chickt)\n- Abschluss der Kerzenlichtfeier mit einer kleinen Überraschung\n
 - Ca. 19:30h Verabschiedung und Ende der virtuellen Feier\n\nAnmeldung: bi
 s spätestens Sonntag 31. Januar 2021 unter admin@bpw-baden.ch.\nAnschliess
 end wird den Teilnehmerinnen ein Päckli mit weiteren Instruktionen nach Ha
 use geschickt – bitte gib bei der Anmeldung die Adresse an\, an die das Pä
 ckli geschickt werden soll. Den Zoom-Link bekommen alle\, die sich angemel
 det haben\, am 22. Februar per Mail zugeschickt.\n\nFür Interessentinnen u
 nd Gäste kostet die Kerzenlichtfeier 40 Franken. Für die Mitglieder ist di
 e Kerzenlichtfeier bereits im Mitgliederbeitrag inbegriffen.\nWir freuen u
 ns auf eine prickelnd-sprühende\, feierliche und inspirierende virtuelle F
 eier.\n\nMit herzlichen Grüssen\nDie Organisatorinnen Hanna Rohrer\, Antje
  Amrhein-Schoch und Sonja Zanini\nDie Vorstandsfrauen Katia Röthlin\, Manu
 ela Birrer\, Claudine Gerber und Alexandra Signer\n
DTSTART:20210223T183000
DTEND:20210223T193000
LOCATION:via Zoom
ORGANIZER:MAILTO:BPW Switzerland <admin@bpw-baden.ch>
SUMMARY:Traditionelle Kerzenlichtfeier
END:VEVENT
END:VCALENDAR
