BEGIN:VCALENDAR
VERSION:2.0
PRODID:-//BPW Switzerland//NONSGML kigkonsult.se iCalcreator 2.16.12//
METHOD:PUBLISH
X-MS-OLK-FORCEINSPECTOROPEN:TRUE
BEGIN:VEVENT
UID:20260422T221224CEST-2908M7UBbv@BPW Switzerland
DTSTAMP:20260422T201224Z
DESCRIPTION:\n\n\nLiebe BPW\, liebe Interessentinnen und Gäste\nAufgrund de
 r ausserordentlichen Situation und der Empfehlungen von Bund und Kanton wi
 rd die Mitgliederversammlung vom Donnerstag\, 26. März 2020\, nicht als Pr
 äsenzveranstaltung durchgeführt. Passend zu unserem Jahresthema 'Arbeitspl
 atz 4.0' verlegen wir die Mitgliederversammlung in den digitalen Raum. Die
  stimmberechtigten Mitglieder haben inzwischen die Unterlagen (Traktanden\
 , Jahresbericht\, Jahresrechnung und Budget 2020/21) per Post erhalten.\n
 \nFür euch bedeutet das folgendes:\n1. Alle Anmeldungen für die MV\, die b
 isher eingegangen sind\, sind nichtig.\n2. Wer teilnehmen will - das gilt 
 auch für unsere Interessentinnen - meldet sich bis Mittwoch\, 25. März\, 1
 8 Uhr\, per Mail (admin@bpw-baden.ch) an.\n3. Wer teilnimmt\, installiert 
 Zoom auf seinem Endgerät.\n4. Die Teilnehmenden erhalten am Donnerstagmitt
 ag die Angaben\, um sich auf Zoom zum Meeting anzumelden. \nWir freuen uns
 \, wenn möglichst viele von euch bei unserer ersten digitalen MV dabei sin
 d - und noch mehr freuen wir uns\, wenn wir uns alle wieder persönlich seh
 en.\nBis dahin grüssen wir euch alle herzlich. Bleibt gesund und guten Mut
 es.\nDie Vorstandsfrauen Katia Röthlin\, Manuela Birrer\, Annett Ehrentrau
 t\, Claudine Gerber und Alexandra Signer\n
DTSTART:20200326T190000
DTEND:20200326T201500
LOCATION:Über Webplattform 'Zoom'
ORGANIZER:MAILTO:BPW Switzerland <admin@bpw-baden.ch>
SUMMARY:44. Mitgliederversammlung
END:VEVENT
END:VCALENDAR
