BEGIN:VCALENDAR
VERSION:2.0
PRODID:-//BPW Switzerland//NONSGML kigkonsult.se iCalcreator 2.16.12//
METHOD:PUBLISH
X-MS-OLK-FORCEINSPECTOROPEN:TRUE
BEGIN:VEVENT
UID:20260422T221346CEST-6513hrPHXM@BPW Switzerland
DTSTAMP:20260422T201346Z
DESCRIPTION:\n\n\nIm Rahmen der traditionellen Kerzenlichtfeier gedenken wi
 r wir der Gründerin Dr. Lena Madesin Philips und der Gründerländer von 193
 0. Dank ihnen ist das heute weltumspannende Mitgliedernetzwerk entstanden.
  Für jeden Kontinent und dessen Länder zündeten wir eine Kerze an.\nSomit 
 werden wir an die BPW Clubs in aller Welt\, unsere gemeinsamen Ziele und W
 erte denken und unsere Verbundenheit mit ihnen sichtbar machen.\n\n18.00 U
 hr Eintreffen und Apéro im Musikzimmer\n19.00 Uhr Beginn des Abendessens\n
 \nMenüwahl: Bitte geben Sie bei der Anmeldung die Menüwahl des Hauptganges
  (Fleisch oder Vegi) an:\nApéro: Prosecco mit Häppchen\nVorspeise: Gemüse-
 Tatar auf Brunnenkresse und Buttertoast\nHauptgang Fleisch: Schweinsfilet-
 Piccata / Risotto milanese / Marsalajus / Grillgemüse\nHauptgang Vegi: Bra
 mata-Polenta mit Steinpilzragoût\nKaffee oder Tee: Friandises und feine Ba
 ilyes oder Kirsch-Amaretti\n\nWeisswein: Goldwändler Federweiss / Rotwein:
  Goldwändler AOC Optimis\n\nKosten:\nInteressentinnen und Gäste bezahlen F
 r. 80.-- für das Festmenü - wir bitten euch\, den Betrag bar mitzunehmen\,
  für die BPW Clubmitglieder sind die Kosten im Jahresbeitrag inbegriffen.
 \n\nAnmeldung: Bis spätestens Freitag 14. Februar unter admin@bpw-baden.ch
  Bitte Menuwahl nicht vergessen - Danke!\n
DTSTART:20200219T181500
DTEND:20200219T220000
LOCATION:Villa Boveri
ORGANIZER:MAILTO:BPW Switzerland <admin@bpw-baden.ch>
SUMMARY:Traditionelle Kerzenlichtfeier
END:VEVENT
END:VCALENDAR
