BEGIN:VCALENDAR
VERSION:2.0
PRODID:-//BPW Switzerland//NONSGML kigkonsult.se iCalcreator 2.16.12//
METHOD:PUBLISH
X-MS-OLK-FORCEINSPECTOROPEN:TRUE
BEGIN:VEVENT
UID:20260422T222406CEST-5165ZSsxDA@BPW Switzerland
DTSTAMP:20260422T202406Z
DESCRIPTION:\n\nWir laden herzlich ein zum Weihnachtsanlass und freuen uns 
 auf einen geminsamen festlichen Abend im Restaurant Pinte in Dättwil. Wir 
 freuen uns\, dass die Harfenistin Julia Püntener unsere Weihnachtsfeier mu
 sikalisch begleitet und umrahmt.\n\nZum Programm:\n18.15 Uhr: Apéro\n19 Uh
 r:      Festliches Nachtessen mit Rahmenprogramm von Julia Püntener\n22 Uh
 r:      Ausklang\n\nIm Menupreis von 85 Fr. sind Apéro\, Vorspeise und Hau
 ptgang (Fleisch oder Vegi)\, Dessert sowie Mineralwasser\, ein Glas Rotwei
 n und Tee oder Café inbegriffen.\n\nWir bitten um verbindliche Anmeldung b
 is am Montag\, 2. Dezember. Bitte Menuwahl (Vegi oder Fleisch) angeben. Ab
 meldung bis 48 Std. vorher per Mail (admin@bpw-baden.ch) möglich. Danach w
 ird das Menu in Rechnung gestellt.\n\n\n \n
DTSTART:20191212T181500
DTEND:20191212T220000
LOCATION:Restaurant Pinte
ORGANIZER:MAILTO:BPW Switzerland <admin@bpw-baden.ch>
SUMMARY:Festliche Weihnachtsfeier in der Pinte Dättwil
END:VEVENT
END:VCALENDAR
