BEGIN:VCALENDAR
VERSION:2.0
PRODID:-//BPW Switzerland//NONSGML kigkonsult.se iCalcreator 2.16.12//
METHOD:PUBLISH
X-MS-OLK-FORCEINSPECTOROPEN:TRUE
BEGIN:VEVENT
UID:20260422T222206CEST-3750L5dj39@BPW Switzerland
DTSTAMP:20260422T202206Z
DESCRIPTION:Einführungsreferat von Corinna Hauri - wir lernen unser neues C
 lubmitglied kennen\n\nWir freuen uns sehr\, Euch zum nächsten BPW Anlass e
 inzuladen. Hier ein kleiner Vorgeschmack von Corinna’s Einführungsreferat:
 \n\n'Wie ein roter Faden zieht sich das Thema „Dreichfachbelastung“ durch 
 mein Leben… Ich werde Euch deshalb nicht nur meinen beruflichen Werdegang 
 vom Jus-Studium zur Beraterin für schwierige Kommunkationssituationen aufz
 eigen\, sondern auch auf einige meiner umfangreichen Ehrenämter eingehen. 
 Diese haben mir Erfahrungen ermöglicht\, die mich nachhaltig geprägt haben
 .'\n\nZum Programm:\n18:15 - 18:55 Uhr Eintreffen / Apéro\n19:00 Uhr Begin
 n des Abendessens und des Programmes\n\nAnmeldung für den spannenden Abend
  vom Dienstag 14. Januar 2020 bitte bis spätestens Donnerstag\, 09. Januar
  2020\, unter: admin@bpw-baden.ch\n\nTreffpunkt:\nAb 18.15 Uhr: Apéro im H
 otel Du Parc\, Baden\n19 Uhr: Abendessen und Referat\nBis ca 22 Uhr\n
DTSTART:20200114T181500
DTEND:20200114T220000
LOCATION:Hotel Du Parc\, Baden
ORGANIZER:MAILTO:BPW Switzerland <admin@bpw-baden.ch>
SUMMARY:Einführungsreferat: Unser neues Clubmitglied Corinna Hauri stellt s
 ich vor
END:VEVENT
END:VCALENDAR
