BEGIN:VCALENDAR
VERSION:2.0
PRODID:-//BPW Switzerland//NONSGML kigkonsult.se iCalcreator 2.16.12//
METHOD:PUBLISH
X-MS-OLK-FORCEINSPECTOROPEN:TRUE
BEGIN:VEVENT
UID:20260422T220407CEST-32526dA8b9@BPW Switzerland
DTSTAMP:20260422T200407Z
DESCRIPTION:Teambuilding mal etwas anders: Es erwartet uns ein Abend mit Sp
 iel und Spass beim Lösen von kniffligen Aufgaben im Adventure Room Baden! 
 Im Team erkunden wir neue Räume\, spüren Verstecke und Geheimtüren auf und
  finden mit List und Neugier heraus\, was hinter geheimnisvollen Gegenstän
 den\, Geräten und Zeichen steckt.\n\nWir spielen in Gruppen in den beiden 
 Adventure Rooms Sherlock Holmes und Project X. Knifflige Rätsel müssen gel
 öst werden\, um die Geheimnisse der Adventure Rooms zu entschlüsseln und s
 o den Ausgang zu finden. Keine Angst: Die Räume sind weder dunkel noch gru
 selig und ein Ausstieg ist jederzeit möglich. Es geht bei den Spielen vor 
 allem um Teamwork und um das Lösen raffinierter Rätsel.\n\nZu den Spielen:
 \nSherlock Holmes: Baker Street – Die Glocke lässt ein Klingeln in der Nac
 ht ertönen\, und Schritte auf den Stufen sind zu vernehmen. Ihr seid angek
 lagt einen Mord begangen zu haben und müsst nun eure Unschuld beweisen. Tr
 etet in die Fussstapfen von Sherlock Holmes & Dr. Watson. Ihr habt 60 min 
 Zeit um den Fall zu lösen und den wahren Mörder zu entlarven.\n\nProject X
 : Bist du bereit dem Ungewissen zu entkommen? Es erwartet dich ein Abenteu
 er\, das durch die unterschiedlichsten Welten führt. Ergründe mit Teamwork
 \, Geschick und Flair für Technik den Sinn der anspruchsvollen Aufgaben un
 d zeige dein wahres Escape-Können.\nwww.baden.adventurerooms.ch/\n\nTermin
  / Treffpunkt:\nDienstag\, 15. Oktober 2019\, um 18.15 Uhr\, bei den Adven
 ture Rooms an der Bruggerstrasse 44 in Baden.\nNach den Spielen (ca. 20.30
  bis 20.45 Uhr) begeben wir uns ins Mira zu einem Apéro mit Häppchen.\n\nK
 osten: 60 Franken inkl. Spiel und Apéro (ein Glas Wein inkl.). Bitte bring
 t den Betrag bar mit.\n\nAnmeldung für den aussergewöhnlichen Clubabend vo
 m 15. Oktober 2019 bitte\nbis Freitag\, 11. Oktober 2019\, unter: admin@bp
 w-baden.ch\n\nWir freuen uns\, wenn ihr den Mut habt\, euch mit uns auf un
 gewohntes Terrain zu begeben.\n 
DTSTART:20191015T181500
DTEND:20191015T215900
LOCATION:Adventure Room Baden
ORGANIZER:MAILTO:BPW Switzerland <admin@bpw-baden.ch>
SUMMARY:Adventure Room Baden - Gutes Teamwork stärkt die Resilienz!
END:VEVENT
END:VCALENDAR
