BEGIN:VCALENDAR
VERSION:2.0
PRODID:-//BPW Switzerland//NONSGML kigkonsult.se iCalcreator 2.16.12//
METHOD:PUBLISH
X-MS-OLK-FORCEINSPECTOROPEN:TRUE
BEGIN:VEVENT
UID:20260422T221207CEST-6162iCKX9d@BPW Switzerland
DTSTAMP:20260422T201207Z
DESCRIPTION:\n\nBei einer Führung durch das Kloster Fahr in Unterengstringe
 n und im Gespräch mit der Priorin Irene Gassmann erfahren wir mehr über da
 s klösterliche Leben - unweit des von Hektik geprägten Alltags im Grossrau
 m Zürich.\n\nSeit Jahrhunderten suchen Mönche und Nonnen in der Abgeschied
 enheit und Stille der Klöster Gott. Der klösterliche Alltag ist klar struk
 turiert. Gebetszeiten und Lesungen wechseln sich mit Zeiten der Arbeit und
  Erholung ab. Das schafft einen wohltuenden Rhythmus. Diese klösterliche O
 rdnung trägt dazu bei\, dass die Seele zur Ruhe kommen kann und gestärkt w
 ird.\n\nBeim Blick hinter die Klostermauern erhalten wir einen Einblick in
  das vielfältige Leben der zwanzig Benediktinerinnen im Kloster am Rand de
 r Stadt. Dabei erfahren mehr über die benediktinische Spiritualität und di
 e Aktualität der über 1500 Jahre alte Regel Benedikts für Menschen des 21.
  Jahrhunderts.\nwww.kloster‐fahr.ch\n\nProgramm und Treffpunkt:\nEintreffe
 n um 17.40 Uhr bei der Klosterkirche zum Vesper von 17.45 - 18.15 Uhr. Für
  alle\, die sich interessieren\, dem Abendgebet im Kloster beizusitzen.\n
 \nEintreffen um 18.10 Uhr bei der Klosterkirche zur Führung durch das Klos
 ter (18.15 bis 19 Uhr)\n\nEintreffen um 19 Uhr bei der Klosterkirche  zum 
 Apéro riche (19 bis  20.15 Uhr).\nAb 20.15 Uhr: Vortrag.\n\nWichtig: Wir m
 üssen uns dem Tagesablauf des Klosters anpassen\, deshalb ist es ganz wich
 tig\, dass wir jeweils pünktlich erscheinen\, um den Rhythmus nicht zu stö
 ren.\nDa es auf dem Weg zum Kloster viele Baustellen hat\, rechnet bitte g
 enügend Zeit für die Anfahrt ein.\n\nAnmeldung: bis spätestens Freitag\, 1
 5. November 2019. Bitte mit Angabe\, ob ihr zur Vesper\, zur Klosterführun
 g oder zum Apéro eintreffen werdet.\nKosten inkl. Apéro riche: CHF 35 / Pe
 rson. Wir bitten euch das Geld in bar mitzubringen.\n
DTSTART:20191120T181500
DTEND:20191120T220000
LOCATION:Kloster Fahr\, Unterengstringen
ORGANIZER:MAILTO:BPW Switzerland <admin@bpw-baden.ch>
SUMMARY:Resilienz und Stille - wie passt das in unsere Zeit?
END:VEVENT
END:VCALENDAR
