BEGIN:VCALENDAR
VERSION:2.0
PRODID:-//BPW Switzerland//NONSGML kigkonsult.se iCalcreator 2.16.12//
METHOD:PUBLISH
X-MS-OLK-FORCEINSPECTOROPEN:TRUE
BEGIN:VEVENT
UID:20260422T221335CEST-0129CtJH5i@BPW Switzerland
DTSTAMP:20260422T201335Z
DESCRIPTION:\n\nMit Tamara Köhler\, Diplombiologin und Naturheilpraktikerin
  mit eidg. Diplom für Ayuerveda Medizin\n\nIn den industrialisieren Länder
 n führen Leistungsdruck und hektische Lebensweise zunehmend zu Störungen d
 es vegetativen Nervensystems. Die Folge sind funktionelle Störungen wie Sc
 hlafprobleme\, Konzentrationsstörungen\, Ängste\, Rückenschmerzen\, Burnou
 t und Depressionen. Meditationstechniken können helfen\, das körperliche\,
  geistige und emotionale Wohlbefinden zu stärken.\n\nTamara Köhler erklärt
  uns die Auswirkungen verschiedener Meditationstechniken auf unseren Körpe
 r. In ihrem Vortrag wird sie uns auch einfache Meditationstechniken zeigen
 . www.ayur‐veda‐beratung.ch\n\nOrt: Hotel Du Parc\, Baden\nAb 18.15 Uhr: A
 péro\n19 Uhr: Abendessen und Referat\nDauer: bis ca 22 Uhr
DTSTART:20190919T181500
DTEND:20190919T220000
LOCATION:Hotel Du Parc\, Baden
ORGANIZER:MAILTO:BPW Switzerland <admin@bpw-baden.ch>
SUMMARY:Simply Meditation
END:VEVENT
END:VCALENDAR
