BEGIN:VCALENDAR
VERSION:2.0
PRODID:-//BPW Switzerland//NONSGML kigkonsult.se iCalcreator 2.16.12//
METHOD:PUBLISH
X-MS-OLK-FORCEINSPECTOROPEN:TRUE
BEGIN:VEVENT
UID:20260422T221207CEST-8061aSUO71@BPW Switzerland
DTSTAMP:20260422T201207Z
DESCRIPTION:\nDie Schweiz. Biblothek für Blinde\, Seh- und Lesebehinderte (
 SBS) ist eine Spezialbibliothek mit eigener Produktion. Sie macht Bücher\,
  Musiknoten\, Filme und Spiele blinden\, seh‐ und lesebehinderten Menschen
  zugänglich.\n\nBei einem geführten Rundgang bekommen wir Einblick in die 
 verschiedenen Abteilungen und Produktionsstätten und erfahren die spannend
 e Geschichte dieser über 100‐jährigen\, äusserst innovativen Institution.
 \n\nZu diesem BPW+-Anlass sind FreundInnen und BegleiterInnen herzlich wil
 lkommen. Die Führung ist kostenlos.\nwww.sbs.ch\n\nTreffpunkt: 13.45 Uhr v
 or der Bibliothek\, Grubenstrasse 12\, Zürich\, Anreise: individuell\nDaue
 r des geführten Rundgangs: 14 - ca. 16 Uhr.
DTSTART:20190904T140000
DTEND:20190904T160000
LOCATION:Schweiz. Bibliothek für Blinde\, Seh- und Lesebehinderte (SBS) in 
 Zürich
ORGANIZER:MAILTO:BPW Switzerland <admin@bpw-baden.ch>
SUMMARY:Besuch der Schweiz. Bibliothek für Blinde\, Seh- und Lesebehinderte
  (SBS)
END:VEVENT
END:VCALENDAR
