BEGIN:VCALENDAR
VERSION:2.0
PRODID:-//BPW Switzerland//NONSGML kigkonsult.se iCalcreator 2.16.12//
METHOD:PUBLISH
X-MS-OLK-FORCEINSPECTOROPEN:TRUE
BEGIN:VEVENT
UID:20260422T220406CEST-5270J5dPof@BPW Switzerland
DTSTAMP:20260422T200406Z
DESCRIPTION:Einladung zur Präsidentinnen-Konferenz vom 28.09.2019\n \nEinma
 l im Jahr treffen sich die Präsidentinnen aller schweizerischen BPW-Clubs 
 und der Zentralvorstand von BPW Switzerland zur Präsidentinnen-Konferenz.
 \n\nDie Teilnahme ist für alle (Co-)Präsidentinnen kostenlos. Wer sich abe
 r nach dem 22. September 2019 abmeldet\, bezahlt einen Unkostenbeitrag von
  CHF 86.\n
DTSTART:20190928T093000
DTEND:20190928T170000
LOCATION:Hotel Olten
ORGANIZER:MAILTO:BPW Switzerland <admin@bpw-baden.ch>
SUMMARY:Präsidentinnen-Konferenz
END:VEVENT
END:VCALENDAR
