BEGIN:VCALENDAR
VERSION:2.0
PRODID:-//BPW Switzerland//NONSGML kigkonsult.se iCalcreator 2.16.12//
METHOD:PUBLISH
X-MS-OLK-FORCEINSPECTOROPEN:TRUE
BEGIN:VEVENT
UID:20260422T220441CEST-62478Vljhb@BPW Switzerland
DTSTAMP:20260422T200441Z
DESCRIPTION:Yvonne Ineichen\, selbständige Texterin\, & Oliver Moos\, Coach
  Arbeitsintegration\, erzählen von ihren persönlichen Erfahrungen mit eine
 m Burn-out und was sie daraus gelernt haben.\n\n\n\n\n\nYvonne Ineichen is
 t ein Natur- und Bewegungsmensch. Vor ihrem Burnout war sie als Beraterin 
 und Projektleiterin in einer Werbeagentur tätig. Heute arbeitet sie erfolg
 reich in ihrem Traumjob als selbständige Texterin. www.wortsprudel.ch\n\nO
 liver Moos reiste über Jahre hinweg als Unternehmensberater um die Welt\, 
 kletterte die Karriereleiter hoch und erlitt mit 32 Jahren eine Erschöpfun
 gsdepression. Heute möchte er mit seinem Projekt <Burnoutvoices> Betroffen
 en Zuversicht vermitteln und Interessierten die Möglichkeit geben\, Betrof
 fene besser zu verstehen. Damit will Oliver Moos auch der Tabuisierung des
  Themas entgegentreten. Er ist Gründer einer Arbeitsintegration für junge 
 Erwachsene.\nwww.durchstart.ch \n\nZu diesem Anlass sind auch Partner und 
 Partnerinnen herzlich eingeladen.\n\nTreffpunkt: Hotel Du Parc\, Baden\nAb
  18.15 Uhr: Apéro\nAb 19 Uhr: Abendessen und Referat\nBis ca. 22 Uhr
DTSTART:20190814T181600
DTEND:20190814T220000
LOCATION:Hotel Du Parc
ORGANIZER:MAILTO:BPW Switzerland <admin@bpw-baden.ch>
SUMMARY:Clubabend zum Thema Burnout - zwei persönliche Geschichten
END:VEVENT
END:VCALENDAR
