BEGIN:VCALENDAR
VERSION:2.0
PRODID:-//BPW Switzerland//NONSGML kigkonsult.se iCalcreator 2.16.12//
METHOD:PUBLISH
X-MS-OLK-FORCEINSPECTOROPEN:TRUE
BEGIN:VEVENT
UID:20260422T221223CEST-9989vHGCEz@BPW Switzerland
DTSTAMP:20260422T201223Z
DESCRIPTION:Sommerabend mit Partner und Partnerinnen im Restaurant Hirschen
  in Kirchdorf\n\nDas Programm für die Sportlichen:\n17.10 Uhr: Treffen am 
 Bahnhof Turgi (S23 von Baden ab 17:04)\n17:15 Uhr: Sehr schöne\, kurze Wan
 derung entlang der Limmat und übers offene Feld zum Restaurant Hirschen\nC
 a.18.30 Uhr: Eintreffen im Restaurant Hirschen\nBereits im Vorfeld ein her
 zliches Dankeschön an Anita Rösch (Natel 079 717 89 49) für die Führung de
 s Spazierganges.\n\nODER:\n18.15 Uhr: Eintreffen direkt im Restaurant Hirs
 chen in Kirchdorf (https://hirschen-kirchdorf.ch/)\n\nAnmeldungen bitte bi
 s spätestens 6. Juli 2019 - Bitte mit der Angabe\, ob man an der Wanderung
  teilnehmen möchte oder direkt zum Hirschen kommt.\n 
DTSTART:20190716T173000
DTEND:20190716T220000
LOCATION:Restaurant Hirschen\, Kirchdorf
ORGANIZER:MAILTO:BPW Switzerland <admin@bpw-baden.ch>
SUMMARY:Sommerabend mit Partnerinnen und Partner
END:VEVENT
END:VCALENDAR
