BEGIN:VCALENDAR
VERSION:2.0
PRODID:-//BPW Switzerland//NONSGML kigkonsult.se iCalcreator 2.16.12//
METHOD:PUBLISH
X-MS-OLK-FORCEINSPECTOROPEN:TRUE
BEGIN:VEVENT
UID:20260422T221458CEST-8167mk0Uci@BPW Switzerland
DTSTAMP:20260422T201458Z
DESCRIPTION:Die Referentin Christina Weigl\, eidg. FA Ausbildnerin\, Superv
 isorin / Coach BSO\, berät Einzelpersonen und Teams\, wie sie mittels eine
 m guten Emotionsmanagement auch in konfliktreichen Situationen ihre Emotio
 nen besser steuern und dadurch klare Entscheidungen treffen können.\nIntel
 ligenz hat für die meisten Menschen etwas mit Denken zu tun. Doch es gibt 
 noch eine andere Intelligenz\, die unseren Alltag bereichern kann: die Her
 zintelligenz. Sie hilft bei Stress\, in schwierigen Situationen\, bei komp
 lexer Lösungsfindung und lässt uns Emotionen besser steuern. Somit können 
 wir gesünder und gelassener durch den Alltag gehen.\n\nChristina Weigl erl
 äutert in ihrem Referat folgende Themenfelder:\n- Zusammenhänge zwischen E
 nergiehaushalt\, Emotionen und Leistung\n- Innere Balance: Souveräner Umga
 ng mit Druck und negativen Emotionen\n- Auswirkung von Emotionen in Bezieh
 ungen\, Teams\, Verkauf und Führung\n- HeartMath Training / Herzintelligen
 z - wissenschaftlich erforschte Methode\n- Vorstellen und üben mit Messung
 en\, für den kritischen Geist in uns.\n\nWir erlernen Selbstmanagement-Met
 hoden\, um Sorgen\, Ängste und Stress abzubauen. Wir gewinnen an Denk- und
  Konzentrationsfähigkeit unter Druck. Wir verbessern unseren Energiehausha
 lt und fördern damit unsere Gesundheit. Wir optimieren unser emotionales G
 leichgewicht und trainieren mentale und physische Stärke.\n\nwww.christina
 -weigl.ch\n\nTreffpunkt: Hotel Du Parc\, Baden\nAb 18.15 Uhr: Apéro\nAb 19
  Uhr: Abendessen und Referat\nBis ca. 22 Uhr
DTSTART:20190613T181500
DTEND:20190613T220000
LOCATION:Hotel Du Parc\, Baden
ORGANIZER:MAILTO:BPW Switzerland <admin@bpw-baden.ch>
SUMMARY:Emotionsmanagement: Effizienz und Resilienz
END:VEVENT
END:VCALENDAR
