BEGIN:VCALENDAR
VERSION:2.0
PRODID:-//BPW Switzerland//NONSGML kigkonsult.se iCalcreator 2.16.12//
METHOD:PUBLISH
X-MS-OLK-FORCEINSPECTOROPEN:TRUE
BEGIN:VEVENT
UID:20260422T222351CEST-6332c0ljvo@BPW Switzerland
DTSTAMP:20260422T202351Z
DESCRIPTION:Bei einem Spaziergang durch den Park der Villa Boveri in Baden 
 erläutert uns Dr. Florianne Koechlin\, Biologin und Chemikerin\, wie Pflan
 zen kommunizieren und sich vernetzen\, dabei erfahren wir Wertvolles über 
 die Resilienz der Pflanzen und Bäume.\n\nWird eine Waldkiefer von Blattwes
 pen attackiert\, lockt sie nützliche Insekten an. Sie identifiziert den Sc
 hädling lange bevor dieser sie angreift - wie aber erkennt sie ihren zukün
 ftigen Widersacher?\n\nPflanzen kommunizieren mit Duftstoffen. Sie warnen 
 sich gegenseitig\, senden SOS-Signale aus\, koordinieren sogar ihr Verhalt
 en. Pflanzen lernen aus Erfahrungen und erinnern sich an vergangene Ereign
 isse. Unter dem Boden bilden sie umfangreiche Netzsysteme aus Wurzeln und 
 Pilzen\, über die sie Nährstoffe und auch Informationen austauschen - ein 
 'Internet der Pflanzengemeinschaften' in ungeahntem Ausmass. Man kann sage
 n: Die Pflanze ist Beziehung. Das birgt Chancen für die Landwirtschaft. Un
 d da stellt sich die Frage unserer Verantwortung ihnen gegenüber neu.\nwww
 .floriannekoechlin.ch\n\nWir treffen uns um 18.45 Uhr beim Eingang der Vil
 la Boveri\nNach dem Spaziergang durch den Park: Kleiner Znacht in der Cant
 ina Fiori.\nDauer: bis ca. 22 Uhr\n
DTSTART:20190515T184500
DTEND:20190515T220000
ORGANIZER:MAILTO:BPW Switzerland <admin@bpw-baden.ch>
SUMMARY:Erlebnisabend mit Spaziergang durch den Park der Villa Boveri: Die 
 Waldkiefer und ihre Bodyguards 
END:VEVENT
END:VCALENDAR
