BEGIN:VCALENDAR
VERSION:2.0
PRODID:-//BPW Switzerland//NONSGML kigkonsult.se iCalcreator 2.16.12//
METHOD:PUBLISH
X-MS-OLK-FORCEINSPECTOROPEN:TRUE
BEGIN:VEVENT
UID:20260422T234722CEST-7495Zu7rKB@BPW Switzerland
DTSTAMP:20260422T214722Z
DESCRIPTION:Clubanlass zum Jahresthema Resilienz\nMit Petra Pätzold-Grünwal
 d\, MSc FHNW Arbeits-\, Organisations- und Personalpsychologin\n\nResilien
 z wird als psychische Widerstandskraft bezeichnet. Damit ist die Fähigkeit
  gemeint\, dass Menschen auch schwierigen Zeiten (Krisen\, langanhaltende 
 Stresssituationen\, ungewisse Veränderungsphasen im privaten oder beruflic
 hen Bereich) robust und zuversichtlich begegnen können. Der praxisorientie
 rte Vortrag gibt einen Einblick in das Thema und sensibilisiert uns für di
 e Bedeutung von Resilienz. Wir erfahren\, welche Einflussfaktoren die pers
 önliche Widerstandskraft begünstigen und wie sich ein verantwortungsvoller
  Umgang mit Ressourcen erreichen lässt. Im Zentrum stehen Hintergrundinfor
 amtionen zum Resilienzkonzept sowie konkrete Tipps und Anregungen\, um bes
 tehende oder potenzielle Grenzsituationen besser zu meistern.\n\nwww.paetz
 old-communication.ch \n\nDies ist ein 1:1 - Anlass\, Gäste sind herzlich w
 illkommen.\n\nTreffpunkt: Hotel Du Parc\, 5400 Baden\nAb 18.15 Uhr: Apéro
 \nAb 19 Uhr: Abendessen und Referat\n
DTSTART:20190409T181500
DTEND:20190409T220000
LOCATION:Hotel Du Parc\, Baden
ORGANIZER:MAILTO:BPW Switzerland <admin@bpw-baden.ch>
SUMMARY:Resilienz - Die Widerstandskraft für herausfordernde Situationen 
END:VEVENT
END:VCALENDAR
