BEGIN:VCALENDAR
VERSION:2.0
PRODID:-//BPW Switzerland//NONSGML kigkonsult.se iCalcreator 2.16.12//
METHOD:PUBLISH
X-MS-OLK-FORCEINSPECTOROPEN:TRUE
BEGIN:VEVENT
UID:20260422T222207CEST-0330JEKJ9v@BPW Switzerland
DTSTAMP:20260422T202207Z
DESCRIPTION:Wir bekommen eine Einführung und werden - wie die Vögel - berin
 gt. Anschliessen gehen wir individuell durch die Ausstelllung\, also durch
  das Vogelleben und werden am Ende einen Vogel zugeordnet bekommen. Ausser
 dem gibt es einen Film und werden ein mechanischen Theater besuchen. Der n
 aturnahe Garten der Vogelwarte lockt ins Freie.\nAnmeldung: bis spätestens
  am Mittwoch\, 27. April\, bei claudinegerber@bluewin.ch.\nZu dieser BPW+ 
 Veranstaltung sind auch Freundinnen und Begleiterinnen herzlich willkommen
 .\nwww.vogelwarte.ch\n\nTreffpunkt:\nAnreise: Individuell. Wir treffen uns
  um 14.20 Uhr beim Eingang des Besucherzentrums der Vogelwarte Sempach\, L
 uzernerstrasse 6. Eintritt: Fr. 15.-\nDauer: bis 17 Uhr\n
DTSTART:20190403T143000
DTEND:20190403T170000
LOCATION:Vogelwarte Sempach
ORGANIZER:MAILTO:BPW Switzerland <admin@bpw-baden.ch>
SUMMARY:Besuch der Vogelwarte Sempach
END:VEVENT
END:VCALENDAR
