BEGIN:VCALENDAR
VERSION:2.0
PRODID:-//BPW Switzerland//NONSGML kigkonsult.se iCalcreator 2.16.12//
METHOD:PUBLISH
X-MS-OLK-FORCEINSPECTOROPEN:TRUE
BEGIN:VEVENT
UID:20260422T220658CEST-2872IJo0Ku@BPW Switzerland
DTSTAMP:20260422T200658Z
DESCRIPTION:Am 14. März 2019 findet die 43. Mitgliederversammlung statt. Ne
 bst unseren Club-Mitgliedern sind auch Interessentinnen und Gäste (nicht s
 timmberechtigt) herzlich willkommen. Die Einladung mit den Traktanden\, Ja
 hresrechnung 2018 und Budget 2019 wurden per Post zugestellt. Hier finden 
 Sie den Jahresbericht der Präsidentin und das Protokoll der MV 2018.\n\n\n
 \nAblauf / Programm:\n\n\nTreffpunkt: Hotel Du Parc\, Baden\nAb 18.00 Uhr:
  Apéro\n18.30 Uhr: Beginn Mitgliederversammlung\n20.00 Uhr: Nachtessen\n20
 .45 Uhr: Simon Libsig\, Geschichten mit Nebenwirkungen\n21.15 Uhr: Thé\, C
 afé und Ausklang\n\n \n
DTSTART:20190314T180000
DTEND:20190314T220000
LOCATION:Hotel Du Parc\, Baden
ORGANIZER:MAILTO:BPW Switzerland <admin@bpw-baden.ch>
SUMMARY:43. Mitgliederversammlung
END:VEVENT
END:VCALENDAR
