BEGIN:VCALENDAR
VERSION:2.0
PRODID:-//BPW Switzerland//NONSGML kigkonsult.se iCalcreator 2.16.12//
METHOD:PUBLISH
X-MS-OLK-FORCEINSPECTOROPEN:TRUE
BEGIN:VEVENT
UID:20260422T205259CEST-8334csBGri@BPW Switzerland
DTSTAMP:20260422T185259Z
DESCRIPTION:Im Rahmen des Jahresprogramms 'Unsere fünf Sinne' tauchen wir e
 in in die Welt der Düfte mit einem Referat von Till Fiegenbaum\, Associate
  Parfumer bei Bibi Bigler Parfums / Die Parfum Bar\n\nDüfte sind aus unser
 em Alltag nicht wegzudenken. Parfümeurinnen und Parfümeure designen diese 
 Düfte: Von den prestigeträchtigen Marken der 'Haute Parfumerie“ über alltä
 gliche Produkte wie Raumdüfte\, Wasch‐ und\nPutzmittel\, bis hin zum Geruc
 h technischer Materialien. Dabei sind sie Angestellte einer milliardenschw
 eren globalen Duftstoffindustrie\, oder sie arbeiten als unabhängige Diens
 tleister und Kreative unter ihrem eigenen Namen.\n\nTill Fiegenbaum wird u
 ns Einblicke in diese Arbeit geben\, die gleichzeitig Leidenschaft\, Kreat
 ivität und technische Präzision verlangt. Dabei ist der Geruchssinn ein wi
 chtiges Arbeitsinstrument\, aber nicht nur. Vor allem erbringen Parfümeure
  eine Gedächtnisleistung. Das genaue Memorieren tausender einzelner Duftba
 usteine ist notwendig\, um die Wünsche der Kundinnen und Kunden übersetzen
  zu können und in einer Duftformel zu realisieren. Einige dieser Duftbaust
 eine werden wir an diesem Abend auch sinnlich erfahren\, sodass unsere Nas
 en an der Reise durch die Welt der Düfte teilhaben können.\ndieparfumbar.c
 h \n\nTreffpunkt: Hotel Du Parc\, 5400 Baden\nAb 18:15 Uhr: Apéro in der B
 ar\n19 Uhr: Abendessen und Referat
DTSTART:20180419T181500
DTEND:20180419T220000
LOCATION:Hotel Du Parc\, Baden
ORGANIZER:MAILTO:BPW Switzerland <admin@bpw-baden.ch>
SUMMARY:Flüchtige Sinnlichkeit - Parfümeure zwischen Duftkultur und Duftind
 ustrie
END:VEVENT
END:VCALENDAR
