BEGIN:VCALENDAR
VERSION:2.0
PRODID:-//BPW Switzerland//NONSGML kigkonsult.se iCalcreator 2.16.12//
METHOD:PUBLISH
X-MS-OLK-FORCEINSPECTOROPEN:TRUE
BEGIN:VEVENT
UID:20260422T205455CEST-9660B8IGMK@BPW Switzerland
DTSTAMP:20260422T185455Z
DESCRIPTION:Interessieren Sie sich für Tipps und Tricks rund um Website und
  Mitgliederdatenbank? Wie erstelle ich eine News? Wie erfasse ich ein neue
 s Mitglied? Wie gestaltet man einen Newsletter? Infos dazu gibt es am 13. 
 April 2018.\n\nDie Schulung wird für die Webverantwortlichen und die Mitgl
 iederdatenbank-Verantwortlichen der BPW Clubs durchgeführt.\nBringen Sie I
 hren Laptop und Ihre Zugangsdaten mit!\n\nAgenda:\n\n13.30 Uhr bis 15.00 U
 hr Schulung Mitgliederdatenbank\n15.30 Uhr bis 17.00 Uhr Schulung Websyste
 m\nAb 17.00 Uhr Spezifische Fragen- und Problemstellungen der Clubverantwo
 rtlichen behandeln
DTSTART:20180413T133000
DTEND:20180413T173000
LOCATION:Hotel Astoria Olten
ORGANIZER:MAILTO:BPW Switzerland <admin@bpw-baden.ch>
SUMMARY:Schulung für Website und Datenbank
END:VEVENT
END:VCALENDAR
