BEGIN:VCALENDAR
VERSION:2.0
PRODID:-//BPW Switzerland//NONSGML kigkonsult.se iCalcreator 2.16.12//
METHOD:PUBLISH
X-MS-OLK-FORCEINSPECTOROPEN:TRUE
BEGIN:VEVENT
UID:20260422T222546CEST-00166euzwV@BPW Switzerland
DTSTAMP:20260422T202546Z
DESCRIPTION:\nPlease find all information and the registration on this link
 .\n\n\n\n\n\n\n\n\n\n\n\n\n\n 
DTSTART:20190524T000000
DTEND:20190526T235900
LOCATION:Galway (Ireland)
ORGANIZER:MAILTO:BPW Switzerland <admin@bpw-baden.ch>
SUMMARY:16th BPW European Conference Galway 2019
END:VEVENT
END:VCALENDAR
