BEGIN:VCALENDAR
VERSION:2.0
PRODID:-//BPW Switzerland//NONSGML kigkonsult.se iCalcreator 2.16.12//
METHOD:PUBLISH
X-MS-OLK-FORCEINSPECTOROPEN:TRUE
BEGIN:VEVENT
UID:20260422T205558CEST-1006R4I7ww@BPW Switzerland
DTSTAMP:20260422T185558Z
DESCRIPTION: \n\nDas Spiel der Gesellschaft korrekt spielen\n\nDie wohlüber
 legte Annahme eines Verwaltungsratsmandates und Pflichten des Verwaltungsr
 ates\n\nIn diesem ersten Kurs kommen folgende Themen zur Sprache:\n- Kluge
  Fragen vor der Annahme eines Verwaltungsratsmandates\n- Kompetenzen des V
 erwaltungsrates\n- Unentziehbare und unübertragbare Aufgaben des Verwaltun
 gsrats\n- Der Verwaltungsrat als Gremium\n- Interaktion mit den Aktionären
 \n- Interaktion mit der Revisionsstelle (sofern vorhanden)\n \nKursausschr
 eibung
DTSTART:20180425T133000
DTEND:20180425T180000
LOCATION:Hotel Astoria Olten
ORGANIZER:MAILTO:BPW Switzerland <admin@bpw-baden.ch>
SUMMARY:Rechtliche Fitness für angehende Verwaltungsrätinnen - Kurs 1
END:VEVENT
END:VCALENDAR
