BEGIN:VCALENDAR
VERSION:2.0
PRODID:-//BPW Switzerland//NONSGML kigkonsult.se iCalcreator 2.16.12//
METHOD:PUBLISH
X-MS-OLK-FORCEINSPECTOROPEN:TRUE
BEGIN:VEVENT
UID:20260422T221605CEST-73409DKUlC@BPW Switzerland
DTSTAMP:20260422T201605Z
DESCRIPTION:\n\nUnterlagen für die 42. Mitgliederversammlung\n\nEinladung\n
 Protokoll der 41. MV\nJahresbericht der Präsidentin
DTSTART:20180315T181500
DTEND:20180315T220000
LOCATION:Familienzentrum Karussell
ORGANIZER:MAILTO:BPW Switzerland <admin@bpw-baden.ch>
SUMMARY:BPW Clubabend - 42. Mitgliederversammlung
END:VEVENT
END:VCALENDAR
