BEGIN:VCALENDAR
VERSION:2.0
PRODID:-//BPW Switzerland//NONSGML kigkonsult.se iCalcreator 2.16.12//
METHOD:PUBLISH
X-MS-OLK-FORCEINSPECTOROPEN:TRUE
BEGIN:VEVENT
UID:20260422T205707CEST-5804gJct7e@BPW Switzerland
DTSTAMP:20260422T185707Z
DESCRIPTION:www.abb-wfs.ch
DTSTART:20180222T181500
DTEND:20180222T220000
LOCATION:Villa Boveri
ORGANIZER:MAILTO:BPW Switzerland <admin@bpw-baden.ch>
SUMMARY:BPW Clubabend - Kerzenlichtfeier in der Villa Boveri\, Baden
END:VEVENT
END:VCALENDAR
