BEGIN:VCALENDAR
VERSION:2.0
PRODID:-//BPW Switzerland//NONSGML kigkonsult.se iCalcreator 2.16.12//
METHOD:PUBLISH
X-MS-OLK-FORCEINSPECTOROPEN:TRUE
BEGIN:VEVENT
UID:20260422T205233CEST-1875bg6HPJ@BPW Switzerland
DTSTAMP:20260422T185233Z
DESCRIPTION:
DTSTART:20180118T181500
DTEND:20180118T220000
LOCATION:Hotel Du Parc
ORGANIZER:MAILTO:BPW Switzerland <admin@bpw-baden.ch>
SUMMARY:BPW Clubabend - Einführungsreferate
END:VEVENT
END:VCALENDAR
