BEGIN:VCALENDAR
VERSION:2.0
PRODID:-//BPW Switzerland//NONSGML kigkonsult.se iCalcreator 2.16.12//
METHOD:PUBLISH
X-MS-OLK-FORCEINSPECTOROPEN:TRUE
BEGIN:VEVENT
UID:20260422T205250CEST-0166SVgTRa@BPW Switzerland
DTSTAMP:20260422T185250Z
DESCRIPTION:www.linde-fislisbach.ch
DTSTART:20171207T181500
DTEND:20171207T220000
LOCATION:Hotel Linde
ORGANIZER:MAILTO:BPW Switzerland <admin@bpw-baden.ch>
SUMMARY:BPW Clubabend - Weihnachtsfeier 
END:VEVENT
END:VCALENDAR
