BEGIN:VCALENDAR
VERSION:2.0
PRODID:-//BPW Switzerland//NONSGML kigkonsult.se iCalcreator 2.16.12//
METHOD:PUBLISH
X-MS-OLK-FORCEINSPECTOROPEN:TRUE
BEGIN:VEVENT
UID:20260422T204335CEST-9420r4LgXu@BPW Switzerland
DTSTAMP:20260422T184335Z
DESCRIPTION:Prof. Dr. Elisabeth Bronfen ist Kulturwissenschaftlerin und Pro
 fessorin für Anglistik – und eine leidenschaftliche Köchin und Gastgeberin
 . In «Besessen» (Echtzeit Verlag 2016) geht es ums Kochen\, Erzählen und u
 ms Lesen gleichermassen. Elisabeth Bronfen hat einige ihrer liebsten Rezep
 te zusammengestellt und mit der Erinnerung an persönliche Begegnungen und 
 Orte verbunden. Sie präsentiert Traditionen aus ihrer Familie\, Mitgebrach
 tes von Reisen und Inspirationen durch Freunde und Freundinnen\, mit welch
 en sie bei Tisch sass. Vor allem aber eröffnet sie zahlreiche Bezüge zur L
 iteratur\, zum Film\, zur Geistesgeschichte – so etwa\, wenn sie mit einem
  Hamlet‐Zitat an ein ordentliches Mise‐en‐place gemahnt: «Readiness is all
 !» Denn Kochen ist immer auch eine kulturelle Handlung\, in der das Neue\,
  das Alte\, und das Improvisierte zusammenfinden. In einem von unserem Clu
 bmitglied Katia Röthlin moderierten Gespräch erfahren wir mehr über die Pr
 ofessorin Elisabeth Bronfen\, die findet\, dass ein Tag ohne Kochen ein tr
 auriger Tag sei.\nDieser Abend ist ein 1:1‐Anlass. Wir freuen uns\, wenn C
 lubmitglieder interessierte Freundinnen oder Geschäftspartnerinnen mitbrin
 gen.\nwww.bronfen.ch
DTSTART:20171116T181500
DTEND:20171116T220000
LOCATION:Hotel Du Parc
ORGANIZER:MAILTO:BPW Switzerland <admin@bpw-baden.ch>
SUMMARY:BPW Clubabend - Prof. Dr. Elisabeth Bronfen: Besessen. Meine Kochme
 moiren
END:VEVENT
END:VCALENDAR
