BEGIN:VCALENDAR
VERSION:2.0
PRODID:-//BPW Switzerland//NONSGML kigkonsult.se iCalcreator 2.16.12//
METHOD:PUBLISH
X-MS-OLK-FORCEINSPECTOROPEN:TRUE
BEGIN:VEVENT
UID:20260422T205418CEST-4201v5Z6mF@BPW Switzerland
DTSTAMP:20260422T185418Z
DESCRIPTION:Das Programm 'Hexe'\nKnuth und Tucek haben ihre Lippen gerötet 
 und ihre Nägel gefeilt. Ihre lusterfüllten Lieder schmeicheln sich in unse
 re Gehörgänge\, bis der Kopf begreift\, wie abgründig und bitterbös ihre T
 exte sind. Geistreich und wortgewandt teilen sie aus: Politik\, Wirtschaft
 \, Spiritualität und volkstümlicher Schlager kriegen ihr Fett ab ‐ und das
  nicht zu knapp!\nDie beiden Damen tingeln\, bewehrt mit scharfen Worten\,
  heftigen Stimmen und einem Akkordeon durch die schöne Welt und verbreiten
  hitsuspekte Stories. Für jeden Liebhaber der gepflegten\, satirischen Abe
 ndunterhaltung. «Die Rockstars unter den Satirikerinnen... ». „Hexe“ bezie
 ht Baden in das Programm mit ein und so entsteht bei jeder Vorstellung ein
  neues Stück!\nwww.knuthundtucek.ch\nwww.thik.ch
DTSTART:20171017T183000
DTEND:20171017T220000
LOCATION:Im ThiK
ORGANIZER:MAILTO:BPW Switzerland <admin@bpw-baden.ch>
SUMMARY:RegioLink im ThiK Baden
END:VEVENT
END:VCALENDAR
