BEGIN:VCALENDAR
VERSION:2.0
PRODID:-//BPW Switzerland//NONSGML kigkonsult.se iCalcreator 2.16.12//
METHOD:PUBLISH
X-MS-OLK-FORCEINSPECTOROPEN:TRUE
BEGIN:VEVENT
UID:20260422T205947CEST-70406AvdsJ@BPW Switzerland
DTSTAMP:20260422T185947Z
DESCRIPTION:Genuss kann als subjektive\, individuelle und positive Gefühls‐
  oder Sinnesempfindung beschrieben werden\, die mit bio‐ (und/oder) psycho
 ‐ (und/oder) sozialem Wohlbefinden verbunden ist. Die Genussfähigkeit kann
  durch intensivekonkurrierende Reize wie z.B. chronische Schmerzen vermind
 ert werden. Die Wahrnehmung als Grundlage der Genussfähigkeit sollte bewus
 st gepflegt und im Alltag integriert werden. Diese Integration kann geweck
 t\, geschult und wiedererlernt werden und dadurch zur Lebensqualität beitr
 agen.\nReferat: Dr. Thomas Benz\,Teamleiter Therapie Psychosomatik und Sch
 merz.\n\nDieser Abend ist ein Partneranlass. Wir freuen uns auf viele Gäst
 e.\nwww.rehaclinic.ch
DTSTART:20170921T181500
DTEND:20170921T220000
LOCATION:Hotel Du Parc
ORGANIZER:MAILTO:BPW Switzerland <admin@bpw-baden.ch>
SUMMARY:BPW Partneranlass: Genuss - ein schmerzhafter Verlust
END:VEVENT
END:VCALENDAR
