BEGIN:VCALENDAR
VERSION:2.0
PRODID:-//BPW Switzerland//NONSGML kigkonsult.se iCalcreator 2.16.12//
METHOD:PUBLISH
X-MS-OLK-FORCEINSPECTOROPEN:TRUE
BEGIN:VEVENT
UID:20260422T205809CEST-1261dfchHf@BPW Switzerland
DTSTAMP:20260422T185809Z
DESCRIPTION:Die Ausstellung Swiss Pop Art zeigt zum ersten Mal einen Überbl
 ick über die Pop Art in der Schweiz. Für das Schweizer Kunstschaffen der 1
 960er und der frühen 1970er Jahre war die internationale Strömung von zent
 raler Bedeutung. Beeindruckt von den provokativen Bildinhalten und neuarti
 gen Motivenschufen die Schweizer Künstlerinnen und Künstler Arbeiten\, die
  sich teilweisestark an die Vorbilder anlehnten\, aber auch solche\, die e
 ine eigene künstlerische Sprache entwickelten.\nDiesen spezifisch schweize
 rischen Ausformungen der Pop Art widmet das Aargauer Kunsthaus eine gross 
 angelegte Ausstellung. Es werden auch Design\, Kunst im öffentlichen Raum\
 , Fotografie\, Film\, Mode und Musik beleuchtet.\n\nTreffpunkt \nAm Bahnho
 f Baden direkt auf dem Gleis\, Abfahrt 13.48 ab Baden für Zugfahrende oder
  direkt beim Eingang an der Kasse des Aargauer Kunsthauses in Aarau auf de
 m Aargauerplatz. Die Führung übernimmt die Clubkasse\, den Eintritt zahlt 
 jede Teilnehmende selbst.\n \nAnmeldungbis spätestens Sonntag\, 27. August
 \, ausschliesslich bei Erica Peterhans: e.peterhans@peterhans-hwz.ch\n \n 
DTSTART:20170829T143000
DTEND:20170829T153000
LOCATION:Kunsthaus Aarau
ORGANIZER:MAILTO:BPW Switzerland <admin@bpw-baden.ch>
SUMMARY:BPW+ Swiss Pop Art im Aargauer Kunsthaus  
END:VEVENT
END:VCALENDAR
